BEGIN:VCALENDAR
VERSION:2.0
PRODID:-//Leeds Combined Arts - ECPv6.15.20//NONSGML v1.0//EN
CALSCALE:GREGORIAN
METHOD:PUBLISH
X-ORIGINAL-URL:https://leedscombinedarts.org.uk
X-WR-CALDESC:Events for Leeds Combined Arts
REFRESH-INTERVAL;VALUE=DURATION:PT1H
X-Robots-Tag:noindex
X-PUBLISHED-TTL:PT1H
BEGIN:VTIMEZONE
TZID:Europe/London
BEGIN:DAYLIGHT
TZOFFSETFROM:+0000
TZOFFSETTO:+0100
TZNAME:BST
DTSTART:20210328T010000
END:DAYLIGHT
BEGIN:STANDARD
TZOFFSETFROM:+0100
TZOFFSETTO:+0000
TZNAME:GMT
DTSTART:20211031T010000
END:STANDARD
BEGIN:DAYLIGHT
TZOFFSETFROM:+0000
TZOFFSETTO:+0100
TZNAME:BST
DTSTART:20220327T010000
END:DAYLIGHT
BEGIN:STANDARD
TZOFFSETFROM:+0100
TZOFFSETTO:+0000
TZNAME:GMT
DTSTART:20221030T010000
END:STANDARD
BEGIN:DAYLIGHT
TZOFFSETFROM:+0000
TZOFFSETTO:+0100
TZNAME:BST
DTSTART:20230326T010000
END:DAYLIGHT
BEGIN:STANDARD
TZOFFSETFROM:+0100
TZOFFSETTO:+0000
TZNAME:GMT
DTSTART:20231029T010000
END:STANDARD
END:VTIMEZONE
BEGIN:VEVENT
DTSTART;TZID=Europe/London:20220503T143000
DTEND;TZID=Europe/London:20220503T163000
DTSTAMP:20260422T121041
CREATED:20220325T162701Z
LAST-MODIFIED:20221203T155743Z
UID:4010-1651588200-1651595400@leedscombinedarts.org.uk
SUMMARY:Colour and Composition workshops – part of ‘Wellbeing through Community Activities’
DESCRIPTION:All materials will be provided on the workshop. \nEntrance: £3 – £2.50 members & concessions (including refreshments). \nFor further info email Anna: anna@leedscombinedarts.org.uk \nFurther class on Tuesdays 10th May \nThese heritage walks were funded by the National Lottery Community Fund as part of ‘Wellbeing through Community Activities’.
URL:https://leedscombinedarts.org.uk/event/colour-and-composition-workshops-with-clive-rea-2/
LOCATION:Meanwood Institute\, Green Road\, Meanwood LS6 4LD\, Green Road\, Leeds\, LS6 4LD\, United Kingdom
END:VEVENT
BEGIN:VEVENT
DTSTART;TZID=Europe/London:20220510T143000
DTEND;TZID=Europe/London:20220510T163000
DTSTAMP:20260422T121041
CREATED:20220325T162830Z
LAST-MODIFIED:20221203T155915Z
UID:4012-1652193000-1652200200@leedscombinedarts.org.uk
SUMMARY:Colour and Composition workshops - part of ‘Wellbeing through Community Activities’
DESCRIPTION:All materials will be provided on the workshop. \nEntrance: £3 – £2.50 members & concessions (including refreshments). \nFor further info email Anna: anna@leedscombinedarts.org.uk \nThese heritage walks were funded by the National Lottery Community Fund as part of ‘Wellbeing through Community Activities’.
URL:https://leedscombinedarts.org.uk/event/colour-and-composition-workshops-with-clive-rea-3/
LOCATION:Meanwood Institute\, Green Road\, Meanwood LS6 4LD\, Green Road\, Leeds\, LS6 4LD\, United Kingdom
END:VEVENT
BEGIN:VEVENT
DTSTART;TZID=Europe/London:20220515T130000
DTEND;TZID=Europe/London:20220515T130000
DTSTAMP:20260422T121041
CREATED:20220513T170936Z
LAST-MODIFIED:20220513T170936Z
UID:4024-1652619600-1652619600@leedscombinedarts.org.uk
SUMMARY:Eccup Reservoir Circular Walk with June Smith
DESCRIPTION:Directions \n11:20 No. 36 Ripon Bus from CBS (Central Bus Station). Alight 11:42 at Wikefield Farm stop\, immediately after the Leeds Grammar School. Walk back along the road\, then turn right\, down the signposted lane to Reservoir Lodge. Meet there at 12md. \nIf beginning your journey from home by bus\, ask the driver for a WEST YORKSHIRE DaySaver ticket [£5.50]. (This ticket is valid for a wide variety of bus operators). \n*If travelling by car please park near to Goodrick Lane\, (LS17 7PF). Walk down this lane to the large house. Turn right onto path to Reservoir Lodge. Meet there at 12md. \nThis pleasant walk has mainly surfaced paths and roads. There is some farmland which can be uneven and boggy. Two stiles\, no steps. \nRefreshments: there is an ice cream van! \nPlease wear suitable walking gear\, bring a packed lunch and a drink. \nPOETRY PLEASE on the theme of ‘water’…rain\, lakes\, sea… anything!
URL:https://leedscombinedarts.org.uk/event/eccup-reservoir-circular-walk-with-june-smith/
END:VEVENT
BEGIN:VEVENT
DTSTART;TZID=Europe/London:20220518T201500
DTEND;TZID=Europe/London:20220518T220000
DTSTAMP:20260422T121041
CREATED:20220501T195927Z
LAST-MODIFIED:20220501T195927Z
UID:4021-1652904900-1652911200@leedscombinedarts.org.uk
SUMMARY:Poetry Evening with Richard Bojanowski
DESCRIPTION:Poetry Evening with Richard Bojanowski on the theme “Things that irk me and things of beauty\, so far !” \nEntrance £3.50/£3.00 members and concessions\, including refreshments. Pay on the door.
URL:https://leedscombinedarts.org.uk/event/poetry-evening-with-richard-bojanowski/
LOCATION:HEART – Headingley Enterprise & Arts Centre\, Bennett Road\, Headingley\, Leeds\, LS6 3HN
END:VEVENT
BEGIN:VEVENT
DTSTART;TZID=Europe/London:20220524T143000
DTEND;TZID=Europe/London:20220524T163000
DTSTAMP:20260422T121041
CREATED:20220520T180854Z
LAST-MODIFIED:20221203T160013Z
UID:4030-1653402600-1653409800@leedscombinedarts.org.uk
SUMMARY:First session of Drawing\, Structure and Form workshops with Claire Randall – part of ‘Wellbeing through Community Activities’
DESCRIPTION:Claire Rae Randall will lead this four week class on drawing techniques including materials such as charcoal\, chalk\, pencil\, pastel and crayon\, exploring how form is suggested and develops from structure. \nEntrance £2.50/£2.00 (concessions and members) including refreshments. \nNext session will be on 31st May\, 7th & 14th June. \nThese heritage walks were funded by the National Lottery Community Fund as part of ‘Wellbeing through Community Activities’.
URL:https://leedscombinedarts.org.uk/event/drawing-structure-and-form-workshops-with-claire-randall/
LOCATION:Meanwood Institute\, Green Road\, Meanwood LS6 4LD\, Green Road\, Leeds\, LS6 4LD\, United Kingdom
END:VEVENT
BEGIN:VEVENT
DTSTART;TZID=Europe/London:20220525T201500
DTEND;TZID=Europe/London:20220525T201500
DTSTAMP:20260422T121041
CREATED:20220513T171619Z
LAST-MODIFIED:20220513T171619Z
UID:4026-1653509700-1653509700@leedscombinedarts.org.uk
SUMMARY:MBS evening with film screening of ‘The Seventh Seal’ at Howard Assembly Room
DESCRIPTION:Our May Mind\, Body & Spirit event will be a film screening of ‘The Seventh Seal’ with a 20min live music performance during the interval at the Howard Assembly Room on 25th May at 7:15 pm. \n‘The Seventh Seal’ is a 1957 Swedish historical fantasy film written and directed by Ingmar Bergman. Set is Sweden during the Black Death\, The Seventh Seal tells of the journey of a medieval knight (Max von Sydow) and a game of chess he plays with the personification of Death (Bengt Ekerot)\, who has come to take his life. \nDisillusioned knight Antonius Block and his cynical squire Jöns return from the Crusades to find the country ravaged by the plague. The knight encounters Death\, whom he challenges to a chess match\, believing he can survive as long as the game continues. The game they start continues throughout the story. \nThe Seventh Seal is considered a classic of world cinema\, as well as one of the greatest movies of all time. It established Bergman as a world-renowned director\, containing scenes which have become iconic through homages\, critical analysis\, and parodies. \nTickets: £5.00 \nPlease let know Sibylle asap if you would like to join us. We have a few tickets left for the event.
URL:https://leedscombinedarts.org.uk/event/mbs-evening-with-film-screening-of-the-seventh-seal-at-howard-assembly-room/
LOCATION:Howard Assembly Room (Leeds Grand Theatre)\, New Briggate\, Leeds\, LS1 6NU
END:VEVENT
BEGIN:VEVENT
DTSTART;TZID=Europe/London:20220531T143000
DTEND;TZID=Europe/London:20220531T163000
DTSTAMP:20260422T121042
CREATED:20220520T181150Z
LAST-MODIFIED:20221203T160126Z
UID:4032-1654007400-1654014600@leedscombinedarts.org.uk
SUMMARY:Second session of Drawing\, Structure and Form workshops with Claire Randall – part of ‘Wellbeing through Community Activities’
DESCRIPTION:Claire Rae Randall will lead this four week class on drawing techniques including materials such as charcoal\, chalk\, pencil\, pastel and crayon\, exploring how form is suggested and develops from structure. \nEntrance £2.50/£2.00 (concessions and members) including refreshments. \nNext session will be on 7th & 14th June. \nThese heritage walks were funded by the National Lottery Community Fund as part of ‘Wellbeing through Community Activities’.
URL:https://leedscombinedarts.org.uk/event/drawing-structure-and-form-workshops-with-claire-randall-2/
LOCATION:Meanwood Institute\, Green Road\, Meanwood LS6 4LD\, Green Road\, Leeds\, LS6 4LD\, United Kingdom
END:VEVENT
END:VCALENDAR