BEGIN:VCALENDAR
VERSION:2.0
PRODID:-//Leeds Combined Arts - ECPv6.15.20//NONSGML v1.0//EN
CALSCALE:GREGORIAN
METHOD:PUBLISH
X-WR-CALNAME:Leeds Combined Arts
X-ORIGINAL-URL:https://leedscombinedarts.org.uk
X-WR-CALDESC:Events for Leeds Combined Arts
REFRESH-INTERVAL;VALUE=DURATION:PT1H
X-Robots-Tag:noindex
X-PUBLISHED-TTL:PT1H
BEGIN:VTIMEZONE
TZID:Europe/London
BEGIN:DAYLIGHT
TZOFFSETFROM:+0000
TZOFFSETTO:+0100
TZNAME:BST
DTSTART:20210328T010000
END:DAYLIGHT
BEGIN:STANDARD
TZOFFSETFROM:+0100
TZOFFSETTO:+0000
TZNAME:GMT
DTSTART:20211031T010000
END:STANDARD
BEGIN:DAYLIGHT
TZOFFSETFROM:+0000
TZOFFSETTO:+0100
TZNAME:BST
DTSTART:20220327T010000
END:DAYLIGHT
BEGIN:STANDARD
TZOFFSETFROM:+0100
TZOFFSETTO:+0000
TZNAME:GMT
DTSTART:20221030T010000
END:STANDARD
BEGIN:DAYLIGHT
TZOFFSETFROM:+0000
TZOFFSETTO:+0100
TZNAME:BST
DTSTART:20230326T010000
END:DAYLIGHT
BEGIN:STANDARD
TZOFFSETFROM:+0100
TZOFFSETTO:+0000
TZNAME:GMT
DTSTART:20231029T010000
END:STANDARD
END:VTIMEZONE
BEGIN:VEVENT
DTSTART;TZID=Europe/London:20220405T143000
DTEND;TZID=Europe/London:20220405T163000
DTSTAMP:20260422T101743
CREATED:20220325T102549Z
LAST-MODIFIED:20221203T155636Z
UID:4006-1649169000-1649176200@leedscombinedarts.org.uk
SUMMARY:Four weeks of Colour and Composition workshops with Clive Rea – part of ‘Wellbeing through Community Activities’
DESCRIPTION:Clive Rea reprises his classes on painting with more demonstrations of how visual composition is built up through the use of colour and how it can suggest depth and form. \nAll materials will be provided on the workshop. \nEntrance: £3 – £2.50 members & concessions (including refreshments). \nFor further info email Anna: anna@leedscombinedarts.org.uk \nFurther classes on Tuesdays after Easter break 3rd & 10th May \nThese heritage walks were funded by the National Lottery Community Fund as part of ‘Wellbeing through Community Activities’. \n \n 
URL:https://leedscombinedarts.org.uk/event/colour-and-composition-workshops-with-clive-rea/
LOCATION:Meanwood Institute\, Green Road\, Meanwood LS6 4LD\, Green Road\, Leeds\, LS6 4LD\, United Kingdom
END:VEVENT
BEGIN:VEVENT
DTSTART;VALUE=DATE:20220410
DTEND;VALUE=DATE:20220411
DTSTAMP:20260422T101743
CREATED:20220312T011916Z
LAST-MODIFIED:20220312T011916Z
UID:3995-1649552400-1649552400@leedscombinedarts.org.uk
SUMMARY:Walk with Rob Baker
DESCRIPTION:The 5.5 mile circular walk will start from Wakefield Kirkgate station (just 18 minutes by train from Leeds Station) and will take in the 18th century village of Heath and the 14th century village of Kirkthorpe. We will aim to meet around midday at Wakefield Kirkgate railway station. Details to follow.
URL:https://leedscombinedarts.org.uk/event/walk-with-rob-baker/
END:VEVENT
BEGIN:VEVENT
DTSTART;TZID=Europe/London:20220420T201500
DTEND;TZID=Europe/London:20220420T201500
DTSTAMP:20260422T101743
CREATED:20220312T011028Z
LAST-MODIFIED:20220312T011028Z
UID:3989-1650485700-1650485700@leedscombinedarts.org.uk
SUMMARY:Open Mic Poetry\, Prose & Music Evening
DESCRIPTION:Everybody is welcome to read\, sing and play. \nEntrance £3.50/£3.00 members and concessions. Pay on the door.
URL:https://leedscombinedarts.org.uk/event/open-mic-poetry-prose-music-evening-2/
LOCATION:HEART – Headingley Enterprise & Arts Centre\, Bennett Road\, Headingley\, Leeds\, LS6 3HN
END:VEVENT
BEGIN:VEVENT
DTSTART;TZID=Europe/London:20220420T201500
DTEND;TZID=Europe/London:20220420T220000
DTSTAMP:20260422T101743
CREATED:20221206T002948Z
LAST-MODIFIED:20221206T002948Z
UID:4318-1650485700-1650492000@leedscombinedarts.org.uk
SUMMARY:Open Mic Poetry\, Prose & Music Evening.
DESCRIPTION:Everybody is welcome to read\, sing and play.\nEntrance £3.50/£3.00 members and concessions\, including refreshments. Pay on the door.
URL:https://leedscombinedarts.org.uk/event/open-mic-poetry-prose-music-evening-3/
LOCATION:HEART – Headingley Enterprise & Arts Centre\, Bennett Road\, Headingley\, Leeds\, LS6 3HN
END:VEVENT
END:VCALENDAR