BEGIN:VCALENDAR
VERSION:2.0
PRODID:-//Leeds Combined Arts - ECPv6.15.20//NONSGML v1.0//EN
CALSCALE:GREGORIAN
METHOD:PUBLISH
X-ORIGINAL-URL:https://leedscombinedarts.org.uk
X-WR-CALDESC:Events for Leeds Combined Arts
REFRESH-INTERVAL;VALUE=DURATION:PT1H
X-Robots-Tag:noindex
X-PUBLISHED-TTL:PT1H
BEGIN:VTIMEZONE
TZID:Europe/London
BEGIN:DAYLIGHT
TZOFFSETFROM:+0000
TZOFFSETTO:+0100
TZNAME:BST
DTSTART:20200329T010000
END:DAYLIGHT
BEGIN:STANDARD
TZOFFSETFROM:+0100
TZOFFSETTO:+0000
TZNAME:GMT
DTSTART:20201025T010000
END:STANDARD
BEGIN:DAYLIGHT
TZOFFSETFROM:+0000
TZOFFSETTO:+0100
TZNAME:BST
DTSTART:20210328T010000
END:DAYLIGHT
BEGIN:STANDARD
TZOFFSETFROM:+0100
TZOFFSETTO:+0000
TZNAME:GMT
DTSTART:20211031T010000
END:STANDARD
BEGIN:DAYLIGHT
TZOFFSETFROM:+0000
TZOFFSETTO:+0100
TZNAME:BST
DTSTART:20220327T010000
END:DAYLIGHT
BEGIN:STANDARD
TZOFFSETFROM:+0100
TZOFFSETTO:+0000
TZNAME:GMT
DTSTART:20221030T010000
END:STANDARD
END:VTIMEZONE
BEGIN:VEVENT
DTSTART;TZID=Europe/London:20211206T150000
DTEND;TZID=Europe/London:20211206T170000
DTSTAMP:20260422T023208
CREATED:20210919T191938Z
LAST-MODIFIED:20210919T191938Z
UID:3861-1638802800-1638810000@leedscombinedarts.org.uk
SUMMARY:The LCA Book Reading Group
DESCRIPTION:The LCA Book Reading Group meets every Monday at 3 – 5 p.m. HEART\, Headingley. \n‘Death of an Old Master’ by David Dickinson – \nEngland 1899\, and the Salisbury Galleries in London announce the biggest exhibition of “Old Master” paintings ever seen in Europe. Excitement is intense\, but before the exhibition opens\, one of Britain’s leading art experts\, Christopher Montague\, is found dead in his study. When Lord Francis Powerscourt is called in to investigate\, he finds that every book\, notepad\, and scrap of paper has been removed from the scene of the crime. Montague had been working on something that would have rocked the art world. Did the article that claimed a number of the “Old Masters” had been painted recently by a single hand have anything to do with his death? \nPowerscourt embarks on an odyssey through a treacherous world of art dealers and picture restorers in pursuit of a master forger. He travels to Sicily where the trail grows cold\, but\, after the thrills and dangers of that lawless island\, it is in a remote corner of the English countryside where the truth is finally revealed.
URL:https://leedscombinedarts.org.uk/event/the-lca-book-reading-group-4/
LOCATION:HEART – Headingley Enterprise & Arts Centre\, Bennett Road\, Headingley\, Leeds\, LS6 3HN
END:VEVENT
BEGIN:VEVENT
DTSTART;TZID=Europe/London:20211208T180000
DTEND;TZID=Europe/London:20211208T180000
DTSTAMP:20260422T023208
CREATED:20211122T062646Z
LAST-MODIFIED:20211122T062837Z
UID:3909-1638986400-1638986400@leedscombinedarts.org.uk
SUMMARY:Annual General Meeting & Christmas Social
DESCRIPTION:We would like to combine AGM with our Christmas Social and go to The Golden Beam\, (Wetherspoons\, Headingley) to a meal afterwards\, about 7:30 p.m.\n\nPlease let us know if you are likely to come to the dinner please let us know by the 30th of November\, we may be able to book a table.
URL:https://leedscombinedarts.org.uk/event/annual-general-meeting/
LOCATION:HEART – Headingley Enterprise & Arts Centre\, Bennett Road\, Headingley\, Leeds\, LS6 3HN
END:VEVENT
BEGIN:VEVENT
DTSTART;TZID=Europe/London:20211213T150000
DTEND;TZID=Europe/London:20211213T170000
DTSTAMP:20260422T023208
CREATED:20210919T192034Z
LAST-MODIFIED:20210919T192034Z
UID:3863-1639407600-1639414800@leedscombinedarts.org.uk
SUMMARY:LCA Book Reading Group
DESCRIPTION:The LCA Book Reading Group meets every Monday at 3 – 5 p.m. HEART\, Headingley. \n‘Death of an Old Master’ by David Dickinson – \nEngland 1899\, and the Salisbury Galleries in London announce the biggest exhibition of “Old Master” paintings ever seen in Europe. Excitement is intense\, but before the exhibition opens\, one of Britain’s leading art experts\, Christopher Montague\, is found dead in his study. When Lord Francis Powerscourt is called in to investigate\, he finds that every book\, notepad\, and scrap of paper has been removed from the scene of the crime. Montague had been working on something that would have rocked the art world. Did the article that claimed a number of the “Old Masters” had been painted recently by a single hand have anything to do with his death? \nPowerscourt embarks on an odyssey through a treacherous world of art dealers and picture restorers in pursuit of a master forger. He travels to Sicily where the trail grows cold\, but\, after the thrills and dangers of that lawless island\, it is in a remote corner of the English countryside where the truth is finally revealed. \n 
URL:https://leedscombinedarts.org.uk/event/lca-book-reading-group-34/
LOCATION:HEART – Headingley Enterprise & Arts Centre\, Bennett Road\, Headingley\, Leeds\, LS6 3HN
END:VEVENT
END:VCALENDAR