BEGIN:VCALENDAR
VERSION:2.0
PRODID:-//Leeds Combined Arts - ECPv6.15.20//NONSGML v1.0//EN
CALSCALE:GREGORIAN
METHOD:PUBLISH
X-ORIGINAL-URL:https://leedscombinedarts.org.uk
X-WR-CALDESC:Events for Leeds Combined Arts
REFRESH-INTERVAL;VALUE=DURATION:PT1H
X-Robots-Tag:noindex
X-PUBLISHED-TTL:PT1H
BEGIN:VTIMEZONE
TZID:Europe/London
BEGIN:DAYLIGHT
TZOFFSETFROM:+0000
TZOFFSETTO:+0100
TZNAME:BST
DTSTART:20200329T010000
END:DAYLIGHT
BEGIN:STANDARD
TZOFFSETFROM:+0100
TZOFFSETTO:+0000
TZNAME:GMT
DTSTART:20201025T010000
END:STANDARD
BEGIN:DAYLIGHT
TZOFFSETFROM:+0000
TZOFFSETTO:+0100
TZNAME:BST
DTSTART:20210328T010000
END:DAYLIGHT
BEGIN:STANDARD
TZOFFSETFROM:+0100
TZOFFSETTO:+0000
TZNAME:GMT
DTSTART:20211031T010000
END:STANDARD
BEGIN:DAYLIGHT
TZOFFSETFROM:+0000
TZOFFSETTO:+0100
TZNAME:BST
DTSTART:20220327T010000
END:DAYLIGHT
BEGIN:STANDARD
TZOFFSETFROM:+0100
TZOFFSETTO:+0000
TZNAME:GMT
DTSTART:20221030T010000
END:STANDARD
END:VTIMEZONE
BEGIN:VEVENT
DTSTART;TZID=Europe/London:20211101T150000
DTEND;TZID=Europe/London:20211101T170000
DTSTAMP:20260422T003345
CREATED:20210919T191322Z
LAST-MODIFIED:20210919T191322Z
UID:3850-1635778800-1635786000@leedscombinedarts.org.uk
SUMMARY:LCA Book Reading Group
DESCRIPTION:
URL:https://leedscombinedarts.org.uk/event/lca-book-reading-group-32/
LOCATION:HEART – Headingley Enterprise & Arts Centre\, Bennett Road\, Headingley\, Leeds\, LS6 3HN
END:VEVENT
BEGIN:VEVENT
DTSTART;TZID=Europe/London:20211104T133000
DTEND;TZID=Europe/London:20211104T133000
DTSTAMP:20260422T003345
CREATED:20210919T194651Z
LAST-MODIFIED:20210919T195053Z
UID:3879-1636032600-1636032600@leedscombinedarts.org.uk
SUMMARY:Local heritage art and photography walk
DESCRIPTION:Meet at the Abbey House Museum for a leisurely stroll round Kirkstall Abbey grounds and along the banks of the River Aire in the last of our local heritage art and photography walks with Claire Rae Randall.
URL:https://leedscombinedarts.org.uk/event/local-heritage-art-and-photography-walks-2/
END:VEVENT
BEGIN:VEVENT
DTSTART;TZID=Europe/London:20211108T150000
DTEND;TZID=Europe/London:20211108T170000
DTSTAMP:20260422T003345
CREATED:20210919T191453Z
LAST-MODIFIED:20210919T191453Z
UID:3853-1636383600-1636390800@leedscombinedarts.org.uk
SUMMARY:LCA Book Reading Group
DESCRIPTION:The LCA Book Reading Group meets every Monday at 3 – 5 p.m. HEART\, Headingley. \n‘Death of an Old Master’ by David Dickinson – \nEngland 1899\, and the Salisbury Galleries in London announce the biggest exhibition of “Old Master” paintings ever seen in Europe. Excitement is intense\, but before the exhibition opens\, one of Britain’s leading art experts\, Christopher Montague\, is found dead in his study. When Lord Francis Powerscourt is called in to investigate\, he finds that every book\, notepad\, and scrap of paper has been removed from the scene of the crime. Montague had been working on something that would have rocked the art world. Did the article that claimed a number of the “Old Masters” had been painted recently by a single hand have anything to do with his death? \nPowerscourt embarks on an odyssey through a treacherous world of art dealers and picture restorers in pursuit of a master forger. He travels to Sicily where the trail grows cold\, but\, after the thrills and dangers of that lawless island\, it is in a remote corner of the English countryside where the truth is finally revealed. \n 
URL:https://leedscombinedarts.org.uk/event/lca-book-reading-group-33/
LOCATION:HEART – Headingley Enterprise & Arts Centre\, Bennett Road\, Headingley\, Leeds\, LS6 3HN
END:VEVENT
BEGIN:VEVENT
DTSTART;TZID=Europe/London:20211115T150000
DTEND;TZID=Europe/London:20211115T170000
DTSTAMP:20260422T003345
CREATED:20210919T191541Z
LAST-MODIFIED:20210919T191541Z
UID:3855-1636988400-1636995600@leedscombinedarts.org.uk
SUMMARY:The LCA Book Reading Group
DESCRIPTION:The LCA Book Reading Group meets every Monday at 3 – 5 p.m. HEART\, Headingley. \n‘Death of an Old Master’ by David Dickinson – \nEngland 1899\, and the Salisbury Galleries in London announce the biggest exhibition of “Old Master” paintings ever seen in Europe. Excitement is intense\, but before the exhibition opens\, one of Britain’s leading art experts\, Christopher Montague\, is found dead in his study. When Lord Francis Powerscourt is called in to investigate\, he finds that every book\, notepad\, and scrap of paper has been removed from the scene of the crime. Montague had been working on something that would have rocked the art world. Did the article that claimed a number of the “Old Masters” had been painted recently by a single hand have anything to do with his death? \nPowerscourt embarks on an odyssey through a treacherous world of art dealers and picture restorers in pursuit of a master forger. He travels to Sicily where the trail grows cold\, but\, after the thrills and dangers of that lawless island\, it is in a remote corner of the English countryside where the truth is finally revealed. \n 
URL:https://leedscombinedarts.org.uk/event/the-lca-book-reading-group/
LOCATION:HEART – Headingley Enterprise & Arts Centre\, Bennett Road\, Headingley\, Leeds\, LS6 3HN
END:VEVENT
BEGIN:VEVENT
DTSTART;TZID=Europe/London:20211117T191500
DTEND;TZID=Europe/London:20211117T214500
DTSTAMP:20260422T003345
CREATED:20210919T155430Z
LAST-MODIFIED:20210919T155430Z
UID:3807-1637176500-1637185500@leedscombinedarts.org.uk
SUMMARY:LCA Open Mic Poetry & Prose Evening
DESCRIPTION:This Poetry & Prose Evening will be a complete ‘open mic’ evening for all who wish to take part on any theme or topic. \nEntrance £3.50/£3.00 members and concessions. Pay on the door.
URL:https://leedscombinedarts.org.uk/event/lca-open-mic-poetry-prose-evening-3/
LOCATION:HEART – Headingley Enterprise & Arts Centre\, Bennett Road\, Headingley\, Leeds\, LS6 3HN
END:VEVENT
BEGIN:VEVENT
DTSTART;TZID=Europe/London:20211121T115600
DTEND;TZID=Europe/London:20211121T115600
DTSTAMP:20260422T003345
CREATED:20210919T195854Z
LAST-MODIFIED:20210919T195854Z
UID:3891-1637495760-1637495760@leedscombinedarts.org.uk
SUMMARY:Autumnal walk with June Smith: Golden Acre Park and Breary Marsh
DESCRIPTION:11.30 X84 bus from CBS (Central Bus Station) \nMEET: 11.56 Golden Acre Car Park (opposite the entrance to Golden Acre Park). Finish there. \nThis is a circular walk which passes a couple of farms and some pleasant scenery. Don’t worry – a boarded walkway should keep our feet dry as we pass through Breary Marsh! \nIt will probably be cold and wet so please wrap up well and wear appropriate footwear! Bring a packed lunch and a hot drink. \nAt the end of walk we will be popping into ‘The Golden Beam’ at Headingley for refreshments. \nAny questions? Please contact June on 0793 906 0193.
URL:https://leedscombinedarts.org.uk/event/autumnal-walk-with-june-smith-golden-acre-park-and-breary-marsh/
END:VEVENT
BEGIN:VEVENT
DTSTART;TZID=Europe/London:20211122T150000
DTEND;TZID=Europe/London:20211122T170000
DTSTAMP:20260422T003345
CREATED:20210919T191647Z
LAST-MODIFIED:20210919T191647Z
UID:3857-1637593200-1637600400@leedscombinedarts.org.uk
SUMMARY:The LCA Book Reading Group
DESCRIPTION:The LCA Book Reading Group meets every Monday at 3 – 5 p.m. HEART\, Headingley. \n‘Death of an Old Master’ by David Dickinson – \nEngland 1899\, and the Salisbury Galleries in London announce the biggest exhibition of “Old Master” paintings ever seen in Europe. Excitement is intense\, but before the exhibition opens\, one of Britain’s leading art experts\, Christopher Montague\, is found dead in his study. When Lord Francis Powerscourt is called in to investigate\, he finds that every book\, notepad\, and scrap of paper has been removed from the scene of the crime. Montague had been working on something that would have rocked the art world. Did the article that claimed a number of the “Old Masters” had been painted recently by a single hand have anything to do with his death? \nPowerscourt embarks on an odyssey through a treacherous world of art dealers and picture restorers in pursuit of a master forger. He travels to Sicily where the trail grows cold\, but\, after the thrills and dangers of that lawless island\, it is in a remote corner of the English countryside where the truth is finally revealed. \n 
URL:https://leedscombinedarts.org.uk/event/the-lca-book-reading-group-2/
LOCATION:HEART – Headingley Enterprise & Arts Centre\, Bennett Road\, Headingley\, Leeds\, LS6 3HN
END:VEVENT
BEGIN:VEVENT
DTSTART;TZID=Europe/London:20211129T150000
DTEND;TZID=Europe/London:20211129T170000
DTSTAMP:20260422T003345
CREATED:20210919T191817Z
LAST-MODIFIED:20210919T191817Z
UID:3859-1638198000-1638205200@leedscombinedarts.org.uk
SUMMARY:The LCA Book Reading Group
DESCRIPTION:The LCA Book Reading Group meets every Monday at 3 – 5 p.m. HEART\, Headingley. \n‘Death of an Old Master’ by David Dickinson – \nEngland 1899\, and the Salisbury Galleries in London announce the biggest exhibition of “Old Master” paintings ever seen in Europe. Excitement is intense\, but before the exhibition opens\, one of Britain’s leading art experts\, Christopher Montague\, is found dead in his study. When Lord Francis Powerscourt is called in to investigate\, he finds that every book\, notepad\, and scrap of paper has been removed from the scene of the crime. Montague had been working on something that would have rocked the art world. Did the article that claimed a number of the “Old Masters” had been painted recently by a single hand have anything to do with his death? \nPowerscourt embarks on an odyssey through a treacherous world of art dealers and picture restorers in pursuit of a master forger. He travels to Sicily where the trail grows cold\, but\, after the thrills and dangers of that lawless island\, it is in a remote corner of the English countryside where the truth is finally revealed.
URL:https://leedscombinedarts.org.uk/event/the-lca-book-reading-group-3/
LOCATION:HEART – Headingley Enterprise & Arts Centre\, Bennett Road\, Headingley\, Leeds\, LS6 3HN
END:VEVENT
BEGIN:VEVENT
DTSTART;TZID=Europe/London:20211130T190000
DTEND;TZID=Europe/London:20211130T190000
DTSTAMP:20260422T003345
CREATED:20210919T194352Z
LAST-MODIFIED:20211120T000538Z
UID:3875-1638298800-1638298800@leedscombinedarts.org.uk
SUMMARY:Theatre Visit: Wendy & Peter Pan - Community Network Christmas Party - Playhouse
DESCRIPTION:Come with us to Neverland this Christmas as Wendy takes centre stage in a magical retelling by Ella Hickson adapted from the classic novel by JM Barrie. Packed with theatrical magic\, beautiful designs\, flying and plenty of laughs\, it promises to be an unforgettable journey for all the family.
URL:https://leedscombinedarts.org.uk/event/theatre-visit-wendy-peter-pan-community-network-christmas-party-playhouse/
LOCATION:Leeds Playhouse\, Playhouse Square\, Leeds\, West Yorkshire\, LS2 7UP\, United Kingdom
END:VEVENT
END:VCALENDAR