BEGIN:VCALENDAR
VERSION:2.0
PRODID:-//Leeds Combined Arts - ECPv6.15.20//NONSGML v1.0//EN
CALSCALE:GREGORIAN
METHOD:PUBLISH
X-WR-CALNAME:Leeds Combined Arts
X-ORIGINAL-URL:https://leedscombinedarts.org.uk
X-WR-CALDESC:Events for Leeds Combined Arts
REFRESH-INTERVAL;VALUE=DURATION:PT1H
X-Robots-Tag:noindex
X-PUBLISHED-TTL:PT1H
BEGIN:VTIMEZONE
TZID:Europe/London
BEGIN:DAYLIGHT
TZOFFSETFROM:+0000
TZOFFSETTO:+0100
TZNAME:BST
DTSTART:20200329T010000
END:DAYLIGHT
BEGIN:STANDARD
TZOFFSETFROM:+0100
TZOFFSETTO:+0000
TZNAME:GMT
DTSTART:20201025T010000
END:STANDARD
BEGIN:DAYLIGHT
TZOFFSETFROM:+0000
TZOFFSETTO:+0100
TZNAME:BST
DTSTART:20210328T010000
END:DAYLIGHT
BEGIN:STANDARD
TZOFFSETFROM:+0100
TZOFFSETTO:+0000
TZNAME:GMT
DTSTART:20211031T010000
END:STANDARD
BEGIN:DAYLIGHT
TZOFFSETFROM:+0000
TZOFFSETTO:+0100
TZNAME:BST
DTSTART:20220327T010000
END:DAYLIGHT
BEGIN:STANDARD
TZOFFSETFROM:+0100
TZOFFSETTO:+0000
TZNAME:GMT
DTSTART:20221030T010000
END:STANDARD
END:VTIMEZONE
BEGIN:VEVENT
DTSTART;TZID=Europe/London:20210503T140000
DTEND;TZID=Europe/London:20210503T140000
DTSTAMP:20260421T223711
CREATED:20210407T100647Z
LAST-MODIFIED:20210427T124635Z
UID:3471-1620050400-1620050400@leedscombinedarts.org.uk
SUMMARY:Bank Holiday Afternoon Stroll & Picnic around Temple Newsam
DESCRIPTION:Join us for a social afternoon and stroll around the grounds of Temple Newsam with picnic. Please bring a packed lunch and/or food & drink to share. Meet at the Brown Cow Whitkirk at 1.30 p.m. For those travelling by public transport the no 19 bus from York Street\, Leeds (stop F3) will take you to the Brown Cow. For those travelling by public transport there is plenty of on-street parking nearby. Poems on Spring\, Nature and other themes welcome. Please pre-book your place by contacting carol@leedscombinedarts.org.uk
URL:https://leedscombinedarts.org.uk/event/bank-holiday-afternoon-stroll-picnic-around-temple-newsam/
END:VEVENT
BEGIN:VEVENT
DTSTART;TZID=Europe/London:20210504T150000
DTEND;TZID=Europe/London:20210504T163000
DTSTAMP:20260421T223711
CREATED:20210407T092358Z
LAST-MODIFIED:20210407T114920Z
UID:3452-1620140400-1620145800@leedscombinedarts.org.uk
SUMMARY:‘Drawing workshops for beginners’ - ‘Life-lines in the Community’
DESCRIPTION:Join us with professional Artist Clive Rea for drawing classes for beginners and those who would like to improve.  Clive would like to assure people that art needn’t be difficult or complicated.  He intends to start from the beginning with simple light and shadow exercises and work up to more ambitious projects eventually; making the session enjoyable by bringing a sense of humour into the proceeds.
URL:https://leedscombinedarts.org.uk/event/drawing-workshops-for-beginners-life-lines-in-the-community-3/
LOCATION:HEART – Headingley Enterprise & Arts Centre\, Bennett Road\, Headingley\, Leeds\, LS6 3HN
END:VEVENT
BEGIN:VEVENT
DTSTART;TZID=Europe/London:20210510T160000
DTEND;TZID=Europe/London:20210510T180000
DTSTAMP:20260421T223711
CREATED:20210407T085203Z
LAST-MODIFIED:20210407T085203Z
UID:3443-1620662400-1620669600@leedscombinedarts.org.uk
SUMMARY:LCA Book Reading Support Group
DESCRIPTION:The year is 1855\, and on the Birmingham express train a criminal is being escorted to his appointment with the hangman. But the wily Jeremy Oxley\, con-man\, thief and murderer\, has one last ace up his sleeve: a beautiful and ruthless accomplice willing to do anything to save her lover. Another puzzling case for the Railway Detective Robert Colbeck and his trusty deputy Victor Leeming\, which will see them travelling across Britain and to New York in their attempts to capture their nemesis Oxley… \nEntrance £3.00. For further information please see www.leedscombinedarts.org.uk
URL:https://leedscombinedarts.org.uk/event/lca-book-reading-support-group-4/
LOCATION:HEART – Headingley Enterprise & Arts Centre\, Bennett Road\, Headingley\, Leeds\, LS6 3HN
END:VEVENT
BEGIN:VEVENT
DTSTART;TZID=Europe/London:20210511T150000
DTEND;TZID=Europe/London:20210511T163000
DTSTAMP:20260421T223711
CREATED:20210407T092540Z
LAST-MODIFIED:20210407T115004Z
UID:3454-1620745200-1620750600@leedscombinedarts.org.uk
SUMMARY:‘Drawing workshops for beginners’ – ‘Life-lines in the Community’
DESCRIPTION:Join us with professional Artist Clive Rea for drawing classes for beginners and those who would like to improve.  Clive would like to assure people that art needn’t be difficult or complicated.  He intends to start from the beginning with simple light and shadow exercises and work up to more ambitious projects eventually; making the session enjoyable by bringing a sense of humour into the proceeds.
URL:https://leedscombinedarts.org.uk/event/drawing-workshops-for-beginners-life-lines-in-the-community-4/
LOCATION:HEART – Headingley Enterprise & Arts Centre\, Bennett Road\, Headingley\, Leeds\, LS6 3HN
END:VEVENT
BEGIN:VEVENT
DTSTART;TZID=Europe/London:20210517T160000
DTEND;TZID=Europe/London:20210517T180000
DTSTAMP:20260421T223711
CREATED:20210407T084540Z
LAST-MODIFIED:20210407T085019Z
UID:3439-1621267200-1621274400@leedscombinedarts.org.uk
SUMMARY:LCA Book Reading Support Group
DESCRIPTION:The year is 1855\, and on the Birmingham express train a criminal is being escorted to his appointment with the hangman. But the wily Jeremy Oxley\, con-man\, thief and murderer\, has one last ace up his sleeve: a beautiful and ruthless accomplice willing to do anything to save her lover. Another puzzling case for the Railway Detective Robert Colbeck and his trusty deputy Victor Leeming\, which will see them travelling across Britain and to New York in their attempts to capture their nemesis Oxley… \nEntrance £3.00. For further information please see www.leedscombinedarts.org.uk
URL:https://leedscombinedarts.org.uk/event/lca-book-reading-support-group-3/
LOCATION:HEART – Headingley Enterprise & Arts Centre\, Bennett Road\, Headingley\, Leeds\, LS6 3HN
END:VEVENT
BEGIN:VEVENT
DTSTART;TZID=Europe/London:20210518T150000
DTEND;TZID=Europe/London:20210518T163000
DTSTAMP:20260421T223711
CREATED:20210513T101342Z
LAST-MODIFIED:20210513T101342Z
UID:3569-1621350000-1621355400@leedscombinedarts.org.uk
SUMMARY:'Drawing Workshops' with Clive Rea. Life Lines in the Community.
DESCRIPTION:Join us with professional Artist Clive Rea for drawing classes for beginners and those who would like to improve.  Clive would like to assure people that art needn’t be difficult or complicated.  He intends to start from the beginning with simple light and shadow exercises and work up to more ambitious projects eventually; making the session enjoyable by bringing a sense of humour into the proceeds.
URL:https://leedscombinedarts.org.uk/event/drawing-workshops-with-clive-rea-life-lines-in-the-community/
END:VEVENT
BEGIN:VEVENT
DTSTART;TZID=Europe/London:20210519T203000
DTEND;TZID=Europe/London:20210519T223000
DTSTAMP:20260421T223711
CREATED:20210118T153709Z
LAST-MODIFIED:20210407T083442Z
UID:3383-1621456200-1621463400@leedscombinedarts.org.uk
SUMMARY:LCA Poetry & Prose Evening on the theme of 'Nature'
DESCRIPTION:Tonight’s Poetry & Prose evening will be on a ‘Nature’ theme. All welcome to read\, sing or play throughout the evening.
URL:https://leedscombinedarts.org.uk/event/lca-poetry-evenings-postponed-until-march-2020/
END:VEVENT
BEGIN:VEVENT
DTSTART;TZID=Europe/London:20210522T100000
DTEND;TZID=Europe/London:20210522T100000
DTSTAMP:20260421T223711
CREATED:20210407T095427Z
LAST-MODIFIED:20210407T095427Z
UID:3469-1621677600-1621677600@leedscombinedarts.org.uk
SUMMARY:Day Trip to Scarborough
DESCRIPTION:Relax and join us for our first day trip of the year with Blue Sky Coaches as we head to Scarborough. A place to make memories and enjoy traditional seaside fun\, local shops and eateries\, beautiful gardens. This is just part of Scarborough’s charm – as Britain’s original seaside resort\, holidays to Scarborough offer something for everyone with two picturesque beaches\, numerous exciting attractions and a rich history that is just begging to be explored. Please book in advance all seats £15.00. Contact us on 07518 627109. \nMeet at 9 am Leeds Central Bus Station outside Greggs.
URL:https://leedscombinedarts.org.uk/event/day-trip-to-scarborough/
LOCATION:Leeds Central bus Station\, Leeds\, United Kingdom
END:VEVENT
BEGIN:VEVENT
DTSTART;TZID=Europe/London:20210526T203000
DTEND;TZID=Europe/London:20210526T223000
DTSTAMP:20260421T223711
CREATED:20201118T140710Z
LAST-MODIFIED:20210428T110722Z
UID:3266-1622061000-1622068200@leedscombinedarts.org.uk
SUMMARY:Mind\, Body\, Spirit evening - Talk with Janine Griffiths.
DESCRIPTION:Join us with Janine Griffiths Editor of the Akashic Times for an update on recent events and what we can all expect in the future. Janine will discuss the new Covid regulations and how it fits into the overall agenda as well as the explicit ways that the media and social media has helped to facilitate that agenda. \nEntrance £4/£3.00 members and concessions.
URL:https://leedscombinedarts.org.uk/event/mbs-talk-with-janine-griffiths/
LOCATION:HEART – Headingley Enterprise & Arts Centre\, Bennett Road\, Headingley\, Leeds\, LS6 3HN
END:VEVENT
END:VCALENDAR