BEGIN:VCALENDAR
VERSION:2.0
PRODID:-//Leeds Combined Arts - ECPv6.15.20//NONSGML v1.0//EN
CALSCALE:GREGORIAN
METHOD:PUBLISH
X-ORIGINAL-URL:https://leedscombinedarts.org.uk
X-WR-CALDESC:Events for Leeds Combined Arts
REFRESH-INTERVAL;VALUE=DURATION:PT1H
X-Robots-Tag:noindex
X-PUBLISHED-TTL:PT1H
BEGIN:VTIMEZONE
TZID:Europe/London
BEGIN:DAYLIGHT
TZOFFSETFROM:+0000
TZOFFSETTO:+0100
TZNAME:BST
DTSTART:20210328T010000
END:DAYLIGHT
BEGIN:STANDARD
TZOFFSETFROM:+0100
TZOFFSETTO:+0000
TZNAME:GMT
DTSTART:20211031T010000
END:STANDARD
BEGIN:DAYLIGHT
TZOFFSETFROM:+0000
TZOFFSETTO:+0100
TZNAME:BST
DTSTART:20220327T010000
END:DAYLIGHT
BEGIN:STANDARD
TZOFFSETFROM:+0100
TZOFFSETTO:+0000
TZNAME:GMT
DTSTART:20221030T010000
END:STANDARD
BEGIN:DAYLIGHT
TZOFFSETFROM:+0000
TZOFFSETTO:+0100
TZNAME:BST
DTSTART:20230326T010000
END:DAYLIGHT
BEGIN:STANDARD
TZOFFSETFROM:+0100
TZOFFSETTO:+0000
TZNAME:GMT
DTSTART:20231029T010000
END:STANDARD
END:VTIMEZONE
BEGIN:VEVENT
DTSTART;TZID=Europe/London:20221116T191500
DTEND;TZID=Europe/London:20221116T210000
DTSTAMP:20260423T012057
CREATED:20221130T223015Z
LAST-MODIFIED:20221130T223015Z
UID:4109-1668626100-1668632400@leedscombinedarts.org.uk
SUMMARY:Poetry Evening with Hilary Murray and Louise Holmes
DESCRIPTION:Wednesday 16th November 7.15 p.m.  \nHilary J Murray lives in Leeds\, but grew up in Kent. She is mainly kept busy by her three daughters\, four granddaughters – and poetry. Poems have appeared in Grey Hen Press anthologies\, the pamphlet Second Bite\, and magazines. \n‘I owe a huge amount to a succession of poetry groups in Leeds – the latest incarnation is the Tiled Hall Poets’. \nLouise Holmes \nBorn in Bradford and now living in Leeds\, Louise Holmes remembers her love of poetry starting in early childhood. Louise has had poems widely published\, including in poetry journals\, magazines\, on internet platforms and in a number of anthologies. She has won several prizes for poetry and read at various events and open mics in Yorkshire and further afield. \nLouise says\, ‘I write about the small (and sometimes enormous) experiences of family life that stay with me – and about those unusual encounters and observations that bring a rich and welcome seam of the unexpected to the day-to-day. I am increasingly finding myself drawn to nature in my writing – themes which also occur in my art practice.’ \n Entrance £3.50/£3.00 members and concessions\, including refreshments. Pay on the door.
URL:https://leedscombinedarts.org.uk/event/poetry-evening-with-hilary-murray-and-louise-holmes-2/
LOCATION:HEART – Headingley Enterprise & Arts Centre\, Bennett Road\, Headingley\, Leeds\, LS6 3HN
END:VEVENT
END:VCALENDAR