BEGIN:VCALENDAR
VERSION:2.0
PRODID:-//Leeds Combined Arts - ECPv6.15.20//NONSGML v1.0//EN
CALSCALE:GREGORIAN
METHOD:PUBLISH
X-WR-CALNAME:Leeds Combined Arts
X-ORIGINAL-URL:https://leedscombinedarts.org.uk
X-WR-CALDESC:Events for Leeds Combined Arts
REFRESH-INTERVAL;VALUE=DURATION:PT1H
X-Robots-Tag:noindex
X-PUBLISHED-TTL:PT1H
BEGIN:VTIMEZONE
TZID:Europe/London
BEGIN:DAYLIGHT
TZOFFSETFROM:+0000
TZOFFSETTO:+0100
TZNAME:BST
DTSTART:20210328T010000
END:DAYLIGHT
BEGIN:STANDARD
TZOFFSETFROM:+0100
TZOFFSETTO:+0000
TZNAME:GMT
DTSTART:20211031T010000
END:STANDARD
BEGIN:DAYLIGHT
TZOFFSETFROM:+0000
TZOFFSETTO:+0100
TZNAME:BST
DTSTART:20220327T010000
END:DAYLIGHT
BEGIN:STANDARD
TZOFFSETFROM:+0100
TZOFFSETTO:+0000
TZNAME:GMT
DTSTART:20221030T010000
END:STANDARD
BEGIN:DAYLIGHT
TZOFFSETFROM:+0000
TZOFFSETTO:+0100
TZNAME:BST
DTSTART:20230326T010000
END:DAYLIGHT
BEGIN:STANDARD
TZOFFSETFROM:+0100
TZOFFSETTO:+0000
TZNAME:GMT
DTSTART:20231029T010000
END:STANDARD
END:VTIMEZONE
BEGIN:VEVENT
DTSTART;TZID=Europe/London:20220930T183000
DTEND;TZID=Europe/London:20220930T183000
DTSTAMP:20260422T213650
CREATED:20220918T194750Z
LAST-MODIFIED:20220918T194750Z
UID:4078-1664562600-1664562600@leedscombinedarts.org.uk
SUMMARY:Michelangelo’s Sistine Chapel: The Exhibition
DESCRIPTION:The Exhibition is located right behind the bus station on Springwell Street. Duration: the visit will take approx. 1 hour and 30 minutes The Exhibition showcases the awe and wonder of arguably one of mankind’s greatest artistic achievements\, while allowing its visitors to experience this art from an up-close\, life-size\, and never-before-seen perspective. With special expertise and care\, the ceiling paintings from the Sistine Chapel have been reproduced in a truly unique way using licensed high-definition photos. Brought to life using a special printing technique that emulates the look and feel of the original paintings\, visitors are given a chance to engage with the artwork in ways that were never before possible: seeing every detail\, every brushstroke\, and every colour of the artist’s 34 frescoes. Each image is accompanied by informative signage\, and audio guides are available to rent for an even more in-depth experience. \nNo Group tickets available: Adult/ Senior (over 65)\, NHS valid ID\, from £11-15.00 \nVenue: Stage 4\, Versa Studios Leeds\, Whitehall Road Parking\, Holbeck\, Leeds\, United Kingdom\, LS12 1AP.
URL:https://leedscombinedarts.org.uk/event/michelangelos-sistine-chapel-the-exhibition/
LOCATION:Stage 4\, Versa Studios Leeds\, Whitehall Road Parking\, Holbeck\, Leeds\, United Kingdom\, LS12 1AP.
END:VEVENT
END:VCALENDAR