BEGIN:VCALENDAR
VERSION:2.0
PRODID:-//Leeds Combined Arts - ECPv6.15.20//NONSGML v1.0//EN
CALSCALE:GREGORIAN
METHOD:PUBLISH
X-ORIGINAL-URL:https://leedscombinedarts.org.uk
X-WR-CALDESC:Events for Leeds Combined Arts
REFRESH-INTERVAL;VALUE=DURATION:PT1H
X-Robots-Tag:noindex
X-PUBLISHED-TTL:PT1H
BEGIN:VTIMEZONE
TZID:Europe/London
BEGIN:DAYLIGHT
TZOFFSETFROM:+0000
TZOFFSETTO:+0100
TZNAME:BST
DTSTART:20210328T010000
END:DAYLIGHT
BEGIN:STANDARD
TZOFFSETFROM:+0100
TZOFFSETTO:+0000
TZNAME:GMT
DTSTART:20211031T010000
END:STANDARD
BEGIN:DAYLIGHT
TZOFFSETFROM:+0000
TZOFFSETTO:+0100
TZNAME:BST
DTSTART:20220327T010000
END:DAYLIGHT
BEGIN:STANDARD
TZOFFSETFROM:+0100
TZOFFSETTO:+0000
TZNAME:GMT
DTSTART:20221030T010000
END:STANDARD
BEGIN:DAYLIGHT
TZOFFSETFROM:+0000
TZOFFSETTO:+0100
TZNAME:BST
DTSTART:20230326T010000
END:DAYLIGHT
BEGIN:STANDARD
TZOFFSETFROM:+0100
TZOFFSETTO:+0000
TZNAME:GMT
DTSTART:20231029T010000
END:STANDARD
END:VTIMEZONE
BEGIN:VEVENT
DTSTART;TZID=Europe/London:20220724T113000
DTEND;TZID=Europe/London:20220724T113000
DTSTAMP:20260422T175820
CREATED:20220610T192925Z
LAST-MODIFIED:20220619T173240Z
UID:4047-1658662200-1658662200@leedscombinedarts.org.uk
SUMMARY:Circular walk through Weston Park\, East Wood and surrounding pastures with Natasha
DESCRIPTION:Please take the X84 Ilkley bus at 10:30 am from Leeds Central Bus Station to meet Natasha (0113 2686077) at 11.15 am at Otley Bus Station for a 4.5m circular walk through Weston Park\, East Wood and surrounding pastures. The suggested poetry theme is “Natural World”. After the walk there will be an optional visit to a nearby pub for a drink.”
URL:https://leedscombinedarts.org.uk/event/circular-walk-through-weston-park-east-wood-and-surrounding-pastures-with-natasha/
END:VEVENT
END:VCALENDAR