BEGIN:VCALENDAR
VERSION:2.0
PRODID:-//Leeds Combined Arts - ECPv6.15.20//NONSGML v1.0//EN
CALSCALE:GREGORIAN
METHOD:PUBLISH
X-ORIGINAL-URL:https://leedscombinedarts.org.uk
X-WR-CALDESC:Events for Leeds Combined Arts
REFRESH-INTERVAL;VALUE=DURATION:PT1H
X-Robots-Tag:noindex
X-PUBLISHED-TTL:PT1H
BEGIN:VTIMEZONE
TZID:Europe/London
BEGIN:DAYLIGHT
TZOFFSETFROM:+0000
TZOFFSETTO:+0100
TZNAME:BST
DTSTART:20210328T010000
END:DAYLIGHT
BEGIN:STANDARD
TZOFFSETFROM:+0100
TZOFFSETTO:+0000
TZNAME:GMT
DTSTART:20211031T010000
END:STANDARD
BEGIN:DAYLIGHT
TZOFFSETFROM:+0000
TZOFFSETTO:+0100
TZNAME:BST
DTSTART:20220327T010000
END:DAYLIGHT
BEGIN:STANDARD
TZOFFSETFROM:+0100
TZOFFSETTO:+0000
TZNAME:GMT
DTSTART:20221030T010000
END:STANDARD
BEGIN:DAYLIGHT
TZOFFSETFROM:+0000
TZOFFSETTO:+0100
TZNAME:BST
DTSTART:20230326T010000
END:DAYLIGHT
BEGIN:STANDARD
TZOFFSETFROM:+0100
TZOFFSETTO:+0000
TZNAME:GMT
DTSTART:20231029T010000
END:STANDARD
END:VTIMEZONE
BEGIN:VEVENT
DTSTART;TZID=Europe/London:20220323T191500
DTEND;TZID=Europe/London:20220323T210000
DTSTAMP:20260422T101923
CREATED:20220312T011436Z
LAST-MODIFIED:20220312T011436Z
UID:3991-1648062900-1648069200@leedscombinedarts.org.uk
SUMMARY:Mind\, Body\, Spirit Evening: Back Massage\, Indian Head Massage & Reiki with Julie Barrow\, Holistic Therapist
DESCRIPTION:My name is Julie Barrow\, I am a qualified and fully insured Holistic Therapist with over 20 years experience. I also run local wellbeing sessions and have set up a charity called Angels and Stars\, we support families who have had a stillbirth. \nI am going to be working with Leeds Combined Arts and offering free tasters in Back Massage\, Indian Head Massage or Reiki. Feel free to pop in on the day for a bit of relaxation or healing. \nEntrance fee £3.50/£3.00 members and concessions.
URL:https://leedscombinedarts.org.uk/event/mind-body-spirit-evening-back-massage-indian-head-massage-reiki-with-julie-barrow-holistic-therapist/
LOCATION:HEART – Headingley Enterprise & Arts Centre\, Bennett Road\, Headingley\, Leeds\, LS6 3HN
END:VEVENT
END:VCALENDAR