BEGIN:VCALENDAR
VERSION:2.0
PRODID:-//Leeds Combined Arts - ECPv6.15.20//NONSGML v1.0//EN
CALSCALE:GREGORIAN
METHOD:PUBLISH
X-ORIGINAL-URL:https://leedscombinedarts.org.uk
X-WR-CALDESC:Events for Leeds Combined Arts
REFRESH-INTERVAL;VALUE=DURATION:PT1H
X-Robots-Tag:noindex
X-PUBLISHED-TTL:PT1H
BEGIN:VTIMEZONE
TZID:Europe/London
BEGIN:DAYLIGHT
TZOFFSETFROM:+0000
TZOFFSETTO:+0100
TZNAME:BST
DTSTART:20210328T010000
END:DAYLIGHT
BEGIN:STANDARD
TZOFFSETFROM:+0100
TZOFFSETTO:+0000
TZNAME:GMT
DTSTART:20211031T010000
END:STANDARD
BEGIN:DAYLIGHT
TZOFFSETFROM:+0000
TZOFFSETTO:+0100
TZNAME:BST
DTSTART:20220327T010000
END:DAYLIGHT
BEGIN:STANDARD
TZOFFSETFROM:+0100
TZOFFSETTO:+0000
TZNAME:GMT
DTSTART:20221030T010000
END:STANDARD
BEGIN:DAYLIGHT
TZOFFSETFROM:+0000
TZOFFSETTO:+0100
TZNAME:BST
DTSTART:20230326T010000
END:DAYLIGHT
BEGIN:STANDARD
TZOFFSETFROM:+0100
TZOFFSETTO:+0000
TZNAME:GMT
DTSTART:20231029T010000
END:STANDARD
END:VTIMEZONE
BEGIN:VEVENT
DTSTART;TZID=Europe/London:20220223T191500
DTEND;TZID=Europe/London:20220223T210000
DTSTAMP:20260422T080936
CREATED:20220220T175716Z
LAST-MODIFIED:20220220T175758Z
UID:3981-1645643700-1645650000@leedscombinedarts.org.uk
SUMMARY:MBS evening - Chi-Kung practice session with Jeanette Maria Sandle
DESCRIPTION:Chi-Kung session with Maria Sandle – Qualified teacher of Infinite Tai Chi \n\nChi-kung for opening the body and focusing\nMeditation for peace and understanding\nTai Chi for flowing movements with the breath\nRelaxation to release unwanted tensions\nWear comfortable clothes for ease of movement and indoor trainers/plimsolls\nFor more information re regular classes contact Maria\nTel: 07849325699
URL:https://leedscombinedarts.org.uk/event/mbs-evening-chi-kung-practice-session-with-jeanette-maria-sandle/
LOCATION:HEART – Headingley Enterprise & Arts Centre\, Bennett Road\, Headingley\, Leeds\, LS6 3HN
END:VEVENT
END:VCALENDAR