BEGIN:VCALENDAR
VERSION:2.0
PRODID:-//Leeds Combined Arts - ECPv6.15.20//NONSGML v1.0//EN
CALSCALE:GREGORIAN
METHOD:PUBLISH
X-WR-CALNAME:Leeds Combined Arts
X-ORIGINAL-URL:https://leedscombinedarts.org.uk
X-WR-CALDESC:Events for Leeds Combined Arts
REFRESH-INTERVAL;VALUE=DURATION:PT1H
X-Robots-Tag:noindex
X-PUBLISHED-TTL:PT1H
BEGIN:VTIMEZONE
TZID:Europe/London
BEGIN:DAYLIGHT
TZOFFSETFROM:+0000
TZOFFSETTO:+0100
TZNAME:BST
DTSTART:20210328T010000
END:DAYLIGHT
BEGIN:STANDARD
TZOFFSETFROM:+0100
TZOFFSETTO:+0000
TZNAME:GMT
DTSTART:20211031T010000
END:STANDARD
BEGIN:DAYLIGHT
TZOFFSETFROM:+0000
TZOFFSETTO:+0100
TZNAME:BST
DTSTART:20220327T010000
END:DAYLIGHT
BEGIN:STANDARD
TZOFFSETFROM:+0100
TZOFFSETTO:+0000
TZNAME:GMT
DTSTART:20221030T010000
END:STANDARD
BEGIN:DAYLIGHT
TZOFFSETFROM:+0000
TZOFFSETTO:+0100
TZNAME:BST
DTSTART:20230326T010000
END:DAYLIGHT
BEGIN:STANDARD
TZOFFSETFROM:+0100
TZOFFSETTO:+0000
TZNAME:GMT
DTSTART:20231029T010000
END:STANDARD
END:VTIMEZONE
BEGIN:VEVENT
DTSTART;TZID=Europe/London:20220218T190000
DTEND;TZID=Europe/London:20220218T190000
DTSTAMP:20260422T080328
CREATED:20220105T181446Z
LAST-MODIFIED:20220105T181446Z
UID:3968-1645210800-1645210800@leedscombinedarts.org.uk
SUMMARY:Theatre Visit: CARMEN (Bizet) – Opera North
DESCRIPTION:This enduring story of passion\, jealousy and revenge is full of high drama and unforgettable melodies. In this exciting new production of the most celebrated operas of all time\, director Ed Dick (who directed the amazing Tosca in 2018) updates the action from a cigarette factory to a drug-running cartel and burlesque bar. It’s brightly coloured\, dramatic\, and ultimately tragic. \nSung in French with English titles – Running time: 2 hours 40 – Age guidance 12+
URL:https://leedscombinedarts.org.uk/event/theatre-visit-carmen-bizet-opera-north/
LOCATION:Opera North\, Leeds Grand Theatre\, 46 New Briggate\, Leeds\, LS1 6NU
END:VEVENT
END:VCALENDAR