BEGIN:VCALENDAR
VERSION:2.0
PRODID:-//Leeds Combined Arts - ECPv6.15.20//NONSGML v1.0//EN
CALSCALE:GREGORIAN
METHOD:PUBLISH
X-WR-CALNAME:Leeds Combined Arts
X-ORIGINAL-URL:https://leedscombinedarts.org.uk
X-WR-CALDESC:Events for Leeds Combined Arts
REFRESH-INTERVAL;VALUE=DURATION:PT1H
X-Robots-Tag:noindex
X-PUBLISHED-TTL:PT1H
BEGIN:VTIMEZONE
TZID:Europe/London
BEGIN:DAYLIGHT
TZOFFSETFROM:+0000
TZOFFSETTO:+0100
TZNAME:BST
DTSTART:20210328T010000
END:DAYLIGHT
BEGIN:STANDARD
TZOFFSETFROM:+0100
TZOFFSETTO:+0000
TZNAME:GMT
DTSTART:20211031T010000
END:STANDARD
BEGIN:DAYLIGHT
TZOFFSETFROM:+0000
TZOFFSETTO:+0100
TZNAME:BST
DTSTART:20220327T010000
END:DAYLIGHT
BEGIN:STANDARD
TZOFFSETFROM:+0100
TZOFFSETTO:+0000
TZNAME:GMT
DTSTART:20221030T010000
END:STANDARD
BEGIN:DAYLIGHT
TZOFFSETFROM:+0000
TZOFFSETTO:+0100
TZNAME:BST
DTSTART:20230326T010000
END:DAYLIGHT
BEGIN:STANDARD
TZOFFSETFROM:+0100
TZOFFSETTO:+0000
TZNAME:GMT
DTSTART:20231029T010000
END:STANDARD
END:VTIMEZONE
BEGIN:VEVENT
DTSTART;TZID=Europe/London:20220216T191500
DTEND;TZID=Europe/London:20220216T211500
DTSTAMP:20260422T080328
CREATED:20220105T180702Z
LAST-MODIFIED:20220105T180702Z
UID:3961-1645038900-1645046100@leedscombinedarts.org.uk
SUMMARY:Poetry Evening with Joe Williams and F R Kesby
DESCRIPTION:Joe Williams is a writer and performing poet from Leeds. His latest book is ‘The Taking Part’\, a short collection of poems on the theme of sport and games\, published by Maytree Press. \nwww.joewilliams.co.uk \nF R Kesby is a writer and creator from Leeds. They have a string of publishing credits including Strix\, Riggwelter\, Picaroon\, Laldy as well as having headlined for events such as Stirred\, Word Space\, neurodiVERSE and Verse Matters. Their debut pamphlet “Shul” is out now from Maytree Press. They would describe themselves as a queer disability activist who wants to make the world better. \nEntrance £3.50/£3.00 members and concessions. Pay on the door.
URL:https://leedscombinedarts.org.uk/event/poetry-evening-with-joe-williams-and-f-r-kesby/
LOCATION:HEART – Headingley Enterprise & Arts Centre\, Bennett Road\, Headingley\, Leeds\, LS6 3HN
END:VEVENT
END:VCALENDAR