BEGIN:VCALENDAR
VERSION:2.0
PRODID:-//Leeds Combined Arts - ECPv6.15.20//NONSGML v1.0//EN
CALSCALE:GREGORIAN
METHOD:PUBLISH
X-ORIGINAL-URL:https://leedscombinedarts.org.uk
X-WR-CALDESC:Events for Leeds Combined Arts
REFRESH-INTERVAL;VALUE=DURATION:PT1H
X-Robots-Tag:noindex
X-PUBLISHED-TTL:PT1H
BEGIN:VTIMEZONE
TZID:Europe/London
BEGIN:DAYLIGHT
TZOFFSETFROM:+0000
TZOFFSETTO:+0100
TZNAME:BST
DTSTART:20210328T010000
END:DAYLIGHT
BEGIN:STANDARD
TZOFFSETFROM:+0100
TZOFFSETTO:+0000
TZNAME:GMT
DTSTART:20211031T010000
END:STANDARD
BEGIN:DAYLIGHT
TZOFFSETFROM:+0000
TZOFFSETTO:+0100
TZNAME:BST
DTSTART:20220327T010000
END:DAYLIGHT
BEGIN:STANDARD
TZOFFSETFROM:+0100
TZOFFSETTO:+0000
TZNAME:GMT
DTSTART:20221030T010000
END:STANDARD
BEGIN:DAYLIGHT
TZOFFSETFROM:+0000
TZOFFSETTO:+0100
TZNAME:BST
DTSTART:20230326T010000
END:DAYLIGHT
BEGIN:STANDARD
TZOFFSETFROM:+0100
TZOFFSETTO:+0000
TZNAME:GMT
DTSTART:20231029T010000
END:STANDARD
END:VTIMEZONE
BEGIN:VEVENT
DTSTART;TZID=Europe/London:20220214T150000
DTEND;TZID=Europe/London:20220214T170000
DTSTAMP:20260422T100750
CREATED:20211219T203820Z
LAST-MODIFIED:20211219T203820Z
UID:3935-1644850800-1644858000@leedscombinedarts.org.uk
SUMMARY:The LCA Book Reading Group
DESCRIPTION:The book we reading at the moment is – GILEAD by Marilynne Robinson. \nWinner of the Pulitzer prize for fiction and also\, Oprah Winfrey’s book club pick. The book is a memoir written by Reverend John Ames to his young son. An account of his life and that of his forebears covering the civil war\, the abolition of slavery and the relationship between fathers and sons. \nThe LCA Book Reading Group meets every Monday at 3 – 5 p.m. HEART\, Headingley. \nEveryone is welcome to read.  Those who prefer not to read are welcome to just come along and listen.
URL:https://leedscombinedarts.org.uk/event/the-lca-book-reading-group-8/
LOCATION:HEART – Headingley Enterprise & Arts Centre\, Bennett Road\, Headingley\, Leeds\, LS6 3HN
END:VEVENT
END:VCALENDAR