BEGIN:VCALENDAR
VERSION:2.0
PRODID:-//Leeds Combined Arts - ECPv6.15.20//NONSGML v1.0//EN
CALSCALE:GREGORIAN
METHOD:PUBLISH
X-WR-CALNAME:Leeds Combined Arts
X-ORIGINAL-URL:https://leedscombinedarts.org.uk
X-WR-CALDESC:Events for Leeds Combined Arts
REFRESH-INTERVAL;VALUE=DURATION:PT1H
X-Robots-Tag:noindex
X-PUBLISHED-TTL:PT1H
BEGIN:VTIMEZONE
TZID:Europe/London
BEGIN:DAYLIGHT
TZOFFSETFROM:+0000
TZOFFSETTO:+0100
TZNAME:BST
DTSTART:20210328T010000
END:DAYLIGHT
BEGIN:STANDARD
TZOFFSETFROM:+0100
TZOFFSETTO:+0000
TZNAME:GMT
DTSTART:20211031T010000
END:STANDARD
BEGIN:DAYLIGHT
TZOFFSETFROM:+0000
TZOFFSETTO:+0100
TZNAME:BST
DTSTART:20220327T010000
END:DAYLIGHT
BEGIN:STANDARD
TZOFFSETFROM:+0100
TZOFFSETTO:+0000
TZNAME:GMT
DTSTART:20221030T010000
END:STANDARD
BEGIN:DAYLIGHT
TZOFFSETFROM:+0000
TZOFFSETTO:+0100
TZNAME:BST
DTSTART:20230326T010000
END:DAYLIGHT
BEGIN:STANDARD
TZOFFSETFROM:+0100
TZOFFSETTO:+0000
TZNAME:GMT
DTSTART:20231029T010000
END:STANDARD
END:VTIMEZONE
BEGIN:VEVENT
DTSTART;TZID=Europe/London:20220208T190000
DTEND;TZID=Europe/London:20220208T190000
DTSTAMP:20260422T080256
CREATED:20220105T181316Z
LAST-MODIFIED:20220105T181316Z
UID:3966-1644346800-1644346800@leedscombinedarts.org.uk
SUMMARY:Theatre Visit: ALCINA (Handel) - Opera North
DESCRIPTION:Welcome to Alcina’s island paradise. All men who set foot there fall under her spell\, but soon discover it’s all an illusion: Alcina is an enchantress whose island is nothing but a barren wasteland\, its animals\, rocks and trees are in fact her spellbound discarded lovers. When handsome knight Ruggiero appears\, Alcina experiences true love for the first time. But when Ruggiero’s fiancée arrives on a mission to rescue him\, Alcina’s magic is tested to breaking point… \nThis production is part of Opera North’s drive for sustainability\, re-using props\, and using second-hand costumes and minimal staging. The real drama will be contained within the music and performances. An experience not to be missed\, even for newcomers. \n  \nSung in Italian with English titles – Running time: approximately 3 hours
URL:https://leedscombinedarts.org.uk/event/theatre-visit-alcina-handel-opera-north/
LOCATION:Opera North\, Leeds Grand Theatre\, 46 New Briggate\, Leeds\, LS1 6NU
END:VEVENT
END:VCALENDAR