BEGIN:VCALENDAR
VERSION:2.0
PRODID:-//Leeds Combined Arts - ECPv6.15.20//NONSGML v1.0//EN
CALSCALE:GREGORIAN
METHOD:PUBLISH
X-WR-CALNAME:Leeds Combined Arts
X-ORIGINAL-URL:https://leedscombinedarts.org.uk
X-WR-CALDESC:Events for Leeds Combined Arts
REFRESH-INTERVAL;VALUE=DURATION:PT1H
X-Robots-Tag:noindex
X-PUBLISHED-TTL:PT1H
BEGIN:VTIMEZONE
TZID:Europe/London
BEGIN:DAYLIGHT
TZOFFSETFROM:+0000
TZOFFSETTO:+0100
TZNAME:BST
DTSTART:20210328T010000
END:DAYLIGHT
BEGIN:STANDARD
TZOFFSETFROM:+0100
TZOFFSETTO:+0000
TZNAME:GMT
DTSTART:20211031T010000
END:STANDARD
BEGIN:DAYLIGHT
TZOFFSETFROM:+0000
TZOFFSETTO:+0100
TZNAME:BST
DTSTART:20220327T010000
END:DAYLIGHT
BEGIN:STANDARD
TZOFFSETFROM:+0100
TZOFFSETTO:+0000
TZNAME:GMT
DTSTART:20221030T010000
END:STANDARD
BEGIN:DAYLIGHT
TZOFFSETFROM:+0000
TZOFFSETTO:+0100
TZNAME:BST
DTSTART:20230326T010000
END:DAYLIGHT
BEGIN:STANDARD
TZOFFSETFROM:+0100
TZOFFSETTO:+0000
TZNAME:GMT
DTSTART:20231029T010000
END:STANDARD
END:VTIMEZONE
BEGIN:VEVENT
DTSTART;TZID=Europe/London:20220129T190000
DTEND;TZID=Europe/London:20220129T190000
DTSTAMP:20260422T062124
CREATED:20220105T181119Z
LAST-MODIFIED:20220105T181119Z
UID:3964-1643482800-1643482800@leedscombinedarts.org.uk
SUMMARY:Theatre Visit: RIGOLETTO (Verdi) - Opera North
DESCRIPTION:In a world controlled by the privileged and powerful\, Rigoletto is loathed and mocked for his difference. The only thing he lives for is his beautiful daughter Gilda\, whom he hides away from a corrupt society. But when she is discovered by the predatory Duke\, Rigoletto sets out on a path of vengeance from which there is no return. This brand-new production is directed by leading UK theatre artist\, Femi Elufowoju Jr. With its much-loved arias including ‘La donna e mobile’\, this production updates the drama to racial tension and kidnapping in a modern-day setting\, and is sure to be hairs on the back of your neck gripping! \nSung in Italian with English titles – Running time: approximately 2 hours 30 minutes
URL:https://leedscombinedarts.org.uk/event/theatre-visit-rigoletto-verdi-opera-north/
LOCATION:Opera North\, Leeds Grand Theatre\, 46 New Briggate\, Leeds\, LS1 6NU
END:VEVENT
END:VCALENDAR