BEGIN:VCALENDAR
VERSION:2.0
PRODID:-//Leeds Combined Arts - ECPv6.15.20//NONSGML v1.0//EN
CALSCALE:GREGORIAN
METHOD:PUBLISH
X-WR-CALNAME:Leeds Combined Arts
X-ORIGINAL-URL:https://leedscombinedarts.org.uk
X-WR-CALDESC:Events for Leeds Combined Arts
REFRESH-INTERVAL;VALUE=DURATION:PT1H
X-Robots-Tag:noindex
X-PUBLISHED-TTL:PT1H
BEGIN:VTIMEZONE
TZID:Europe/London
BEGIN:DAYLIGHT
TZOFFSETFROM:+0000
TZOFFSETTO:+0100
TZNAME:BST
DTSTART:20210328T010000
END:DAYLIGHT
BEGIN:STANDARD
TZOFFSETFROM:+0100
TZOFFSETTO:+0000
TZNAME:GMT
DTSTART:20211031T010000
END:STANDARD
BEGIN:DAYLIGHT
TZOFFSETFROM:+0000
TZOFFSETTO:+0100
TZNAME:BST
DTSTART:20220327T010000
END:DAYLIGHT
BEGIN:STANDARD
TZOFFSETFROM:+0100
TZOFFSETTO:+0000
TZNAME:GMT
DTSTART:20221030T010000
END:STANDARD
BEGIN:DAYLIGHT
TZOFFSETFROM:+0000
TZOFFSETTO:+0100
TZNAME:BST
DTSTART:20230326T010000
END:DAYLIGHT
BEGIN:STANDARD
TZOFFSETFROM:+0100
TZOFFSETTO:+0000
TZNAME:GMT
DTSTART:20231029T010000
END:STANDARD
END:VTIMEZONE
BEGIN:VEVENT
DTSTART;TZID=Europe/London:20220126T191500
DTEND;TZID=Europe/London:20220126T211500
DTSTAMP:20260422T062239
CREATED:20220116T201316Z
LAST-MODIFIED:20220116T201331Z
UID:3972-1643224500-1643231700@leedscombinedarts.org.uk
SUMMARY:Mind\, Body\, Spirit evening - 'Tai Chi\, Chi- Kung and meditation with Jeanette Maria Sandle'
DESCRIPTION:Maria will introduce practice of Tai Chi\, Chi- Kung and meditation\, and demonstrate some exercises and as a part of the session. Please wear comfortable loose clothing for ease of movement and possibly suitable indoor trainers/ plimsolls etc. The exercises can also be practiced sitting down\, so shouldn’t be an issue for people with physical disabilities.
URL:https://leedscombinedarts.org.uk/event/mind-body-spirit-evening-tai-chi-chi-kung-and-meditation-with-jeanette-maria-sandle/
LOCATION:HEART – Headingley Enterprise & Arts Centre\, Bennett Road\, Headingley\, Leeds\, LS6 3HN
END:VEVENT
END:VCALENDAR