BEGIN:VCALENDAR
VERSION:2.0
PRODID:-//Leeds Combined Arts - ECPv6.15.20//NONSGML v1.0//EN
CALSCALE:GREGORIAN
METHOD:PUBLISH
X-ORIGINAL-URL:https://leedscombinedarts.org.uk
X-WR-CALDESC:Events for Leeds Combined Arts
REFRESH-INTERVAL;VALUE=DURATION:PT1H
X-Robots-Tag:noindex
X-PUBLISHED-TTL:PT1H
BEGIN:VTIMEZONE
TZID:Europe/London
BEGIN:DAYLIGHT
TZOFFSETFROM:+0000
TZOFFSETTO:+0100
TZNAME:BST
DTSTART:20200329T010000
END:DAYLIGHT
BEGIN:STANDARD
TZOFFSETFROM:+0100
TZOFFSETTO:+0000
TZNAME:GMT
DTSTART:20201025T010000
END:STANDARD
BEGIN:DAYLIGHT
TZOFFSETFROM:+0000
TZOFFSETTO:+0100
TZNAME:BST
DTSTART:20210328T010000
END:DAYLIGHT
BEGIN:STANDARD
TZOFFSETFROM:+0100
TZOFFSETTO:+0000
TZNAME:GMT
DTSTART:20211031T010000
END:STANDARD
BEGIN:DAYLIGHT
TZOFFSETFROM:+0000
TZOFFSETTO:+0100
TZNAME:BST
DTSTART:20220327T010000
END:DAYLIGHT
BEGIN:STANDARD
TZOFFSETFROM:+0100
TZOFFSETTO:+0000
TZNAME:GMT
DTSTART:20221030T010000
END:STANDARD
END:VTIMEZONE
BEGIN:VEVENT
DTSTART;TZID=Europe/London:20210918T131500
DTEND;TZID=Europe/London:20210918T131500
DTSTAMP:20260421T223710
CREATED:20210919T195538Z
LAST-MODIFIED:20210919T195942Z
UID:3887-1631970900-1631970900@leedscombinedarts.org.uk
SUMMARY:The Carol Downing Memorial Walk.
DESCRIPTION:The walk is about 4 miles\, taking in a pretty stretch of the Aire and Calder Navigation and a circuit of Rothwell Country Park with fine views of Leeds from the top. \nMeet in Woodlesford at about 12.15 outside the Two Pointers pub (LS26 8RE). Car drivers should find street parking nearby. The train we are aiming for is 11.58 out of Leeds station\, arriving at Woodlesford station at 12.07. Assuming the train is on time it’s less than 5 minutes from the station to the rendezvous point. \nWe would aim to finish the walk at the Two Pointers Pub for refreshments. Bring suitable walking gear\, water and a packed lunch. The paths are good throughout with a steady climb to the highest point of the Country Park. There are no public toilets en route but the pub is scheduled to open at 12 noon so they may let you use the toilet there if necessary\, on the understanding that we will be returning to the pub after our walk. \nMy feeling is that any poetry or song we choose to perform should relate to our memories or thoughts of our friend\, Carol. \nIf you require further details\, phone Rob on 0113 216 4492 in good time or try 07421 043 614 on the day. Please only use the mobile number on the day as I rarely answer it otherwise. Ring the mobile if I don’t show up on time as it will mean that the train is late or cancelled.
URL:https://leedscombinedarts.org.uk/event/the-carol-downing-memorial-walk/
END:VEVENT
END:VCALENDAR