BEGIN:VCALENDAR
VERSION:2.0
PRODID:-//Leeds Combined Arts - ECPv6.15.20//NONSGML v1.0//EN
CALSCALE:GREGORIAN
METHOD:PUBLISH
X-ORIGINAL-URL:https://leedscombinedarts.org.uk
X-WR-CALDESC:Events for Leeds Combined Arts
REFRESH-INTERVAL;VALUE=DURATION:PT1H
X-Robots-Tag:noindex
X-PUBLISHED-TTL:PT1H
BEGIN:VTIMEZONE
TZID:Europe/London
BEGIN:DAYLIGHT
TZOFFSETFROM:+0000
TZOFFSETTO:+0100
TZNAME:BST
DTSTART:20200329T010000
END:DAYLIGHT
BEGIN:STANDARD
TZOFFSETFROM:+0100
TZOFFSETTO:+0000
TZNAME:GMT
DTSTART:20201025T010000
END:STANDARD
BEGIN:DAYLIGHT
TZOFFSETFROM:+0000
TZOFFSETTO:+0100
TZNAME:BST
DTSTART:20210328T010000
END:DAYLIGHT
BEGIN:STANDARD
TZOFFSETFROM:+0100
TZOFFSETTO:+0000
TZNAME:GMT
DTSTART:20211031T010000
END:STANDARD
BEGIN:DAYLIGHT
TZOFFSETFROM:+0000
TZOFFSETTO:+0100
TZNAME:BST
DTSTART:20220327T010000
END:DAYLIGHT
BEGIN:STANDARD
TZOFFSETFROM:+0100
TZOFFSETTO:+0000
TZNAME:GMT
DTSTART:20221030T010000
END:STANDARD
END:VTIMEZONE
BEGIN:VEVENT
DTSTART;TZID=Europe/London:20210917T200000
DTEND;TZID=Europe/London:20210917T230000
DTSTAMP:20260421T221610
CREATED:20210919T193935Z
LAST-MODIFIED:20210919T194939Z
UID:3869-1631908800-1631919600@leedscombinedarts.org.uk
SUMMARY:Theatre Visit: Freedom Project
DESCRIPTION:Melding lived experience with creative theatre-making\, refugees Mo and Hossein share stories – both personal and global – that explore the very different journeys taken by unaccompanied minors as they leave their home countries in search of sanctuary.
URL:https://leedscombinedarts.org.uk/event/theatre-visit-freedom-project/
LOCATION:Leeds Playhouse\, Playhouse Square\, Leeds\, West Yorkshire\, LS2 7UP\, United Kingdom
END:VEVENT
END:VCALENDAR