BEGIN:VCALENDAR
VERSION:2.0
PRODID:-//Leeds Combined Arts - ECPv6.15.20//NONSGML v1.0//EN
CALSCALE:GREGORIAN
METHOD:PUBLISH
X-WR-CALNAME:Leeds Combined Arts
X-ORIGINAL-URL:https://leedscombinedarts.org.uk
X-WR-CALDESC:Events for Leeds Combined Arts
REFRESH-INTERVAL;VALUE=DURATION:PT1H
X-Robots-Tag:noindex
X-PUBLISHED-TTL:PT1H
BEGIN:VTIMEZONE
TZID:Europe/London
BEGIN:DAYLIGHT
TZOFFSETFROM:+0000
TZOFFSETTO:+0100
TZNAME:BST
DTSTART:20200329T010000
END:DAYLIGHT
BEGIN:STANDARD
TZOFFSETFROM:+0100
TZOFFSETTO:+0000
TZNAME:GMT
DTSTART:20201025T010000
END:STANDARD
BEGIN:DAYLIGHT
TZOFFSETFROM:+0000
TZOFFSETTO:+0100
TZNAME:BST
DTSTART:20210328T010000
END:DAYLIGHT
BEGIN:STANDARD
TZOFFSETFROM:+0100
TZOFFSETTO:+0000
TZNAME:GMT
DTSTART:20211031T010000
END:STANDARD
BEGIN:DAYLIGHT
TZOFFSETFROM:+0000
TZOFFSETTO:+0100
TZNAME:BST
DTSTART:20220327T010000
END:DAYLIGHT
BEGIN:STANDARD
TZOFFSETFROM:+0100
TZOFFSETTO:+0000
TZNAME:GMT
DTSTART:20221030T010000
END:STANDARD
END:VTIMEZONE
BEGIN:VEVENT
DTSTART;TZID=Europe/London:20210909T203000
DTEND;TZID=Europe/London:20210909T230000
DTSTAMP:20260421T222755
CREATED:20210919T193832Z
LAST-MODIFIED:20210919T194859Z
UID:3867-1631219400-1631228400@leedscombinedarts.org.uk
SUMMARY:Theatre Visit: Dangerous Liaisons - Playhouse
DESCRIPTION:A story of sexual power\, cruelty and deceit.\nIn 18th century France\, letters fly between the mansions of two bored aristocrats as they spin a web of heartbreak and ruin. It might seem like a game\, but lives will be ruined and love irrevocably lost.\nFrom the original scandalous novel\, the acclaimed film starring John Malkovich and Michelle Pfeiffer and iconic retelling Cruel Intentions\, this dangerous story has been thrilling audiences for over 200 years.\nThis bodice-ripping ballet\, choreographed by David Nixon OBE\, is set to Vivaldi’s The Four Seasons\, played live by Northern Ballet Sinfonia.
URL:https://leedscombinedarts.org.uk/event/theatre-visit-dangerous-liaisons-playhouse/
END:VEVENT
END:VCALENDAR