BEGIN:VCALENDAR
VERSION:2.0
PRODID:-//Leeds Combined Arts - ECPv6.15.20//NONSGML v1.0//EN
CALSCALE:GREGORIAN
METHOD:PUBLISH
X-WR-CALNAME:Leeds Combined Arts
X-ORIGINAL-URL:https://leedscombinedarts.org.uk
X-WR-CALDESC:Events for Leeds Combined Arts
REFRESH-INTERVAL;VALUE=DURATION:PT1H
X-Robots-Tag:noindex
X-PUBLISHED-TTL:PT1H
BEGIN:VTIMEZONE
TZID:Europe/London
BEGIN:DAYLIGHT
TZOFFSETFROM:+0000
TZOFFSETTO:+0100
TZNAME:BST
DTSTART:20200329T010000
END:DAYLIGHT
BEGIN:STANDARD
TZOFFSETFROM:+0100
TZOFFSETTO:+0000
TZNAME:GMT
DTSTART:20201025T010000
END:STANDARD
BEGIN:DAYLIGHT
TZOFFSETFROM:+0000
TZOFFSETTO:+0100
TZNAME:BST
DTSTART:20210328T010000
END:DAYLIGHT
BEGIN:STANDARD
TZOFFSETFROM:+0100
TZOFFSETTO:+0000
TZNAME:GMT
DTSTART:20211031T010000
END:STANDARD
BEGIN:DAYLIGHT
TZOFFSETFROM:+0000
TZOFFSETTO:+0100
TZNAME:BST
DTSTART:20220327T010000
END:DAYLIGHT
BEGIN:STANDARD
TZOFFSETFROM:+0100
TZOFFSETTO:+0000
TZNAME:GMT
DTSTART:20221030T010000
END:STANDARD
END:VTIMEZONE
BEGIN:VEVENT
DTSTART;TZID=Europe/London:20210701T200000
DTEND;TZID=Europe/London:20210701T200000
DTSTAMP:20260421T222720
CREATED:20210608T120950Z
LAST-MODIFIED:20210608T120950Z
UID:3682-1625169600-1625169600@leedscombinedarts.org.uk
SUMMARY:Mick Bradley’s Wainwright Adventures’ Otley Courthouse.
DESCRIPTION:Mick Bradley presents stunning photographs illustrating the pleasures and occasional mishaps of summitting all 214 Wainwrights. Tickets £3.00 from Otley Courthouse\, Courthouse Street\, LS21 3AN. Enjoy the pitfalls of conquering Wainwrights without straining a muscle.
URL:https://leedscombinedarts.org.uk/event/mick-bradleys-wainwright-adventures-otley-courthouse/
LOCATION:Otley Courthouse\, Courthouse Street\, Leeds\, LS21 3AN\, United Kingdom
END:VEVENT
END:VCALENDAR