BEGIN:VCALENDAR
VERSION:2.0
PRODID:-//Leeds Combined Arts - ECPv6.15.20//NONSGML v1.0//EN
CALSCALE:GREGORIAN
METHOD:PUBLISH
X-WR-CALNAME:Leeds Combined Arts
X-ORIGINAL-URL:https://leedscombinedarts.org.uk
X-WR-CALDESC:Events for Leeds Combined Arts
REFRESH-INTERVAL;VALUE=DURATION:PT1H
X-Robots-Tag:noindex
X-PUBLISHED-TTL:PT1H
BEGIN:VTIMEZONE
TZID:Europe/London
BEGIN:DAYLIGHT
TZOFFSETFROM:+0000
TZOFFSETTO:+0100
TZNAME:BST
DTSTART:20200329T010000
END:DAYLIGHT
BEGIN:STANDARD
TZOFFSETFROM:+0100
TZOFFSETTO:+0000
TZNAME:GMT
DTSTART:20201025T010000
END:STANDARD
BEGIN:DAYLIGHT
TZOFFSETFROM:+0000
TZOFFSETTO:+0100
TZNAME:BST
DTSTART:20210328T010000
END:DAYLIGHT
BEGIN:STANDARD
TZOFFSETFROM:+0100
TZOFFSETTO:+0000
TZNAME:GMT
DTSTART:20211031T010000
END:STANDARD
BEGIN:DAYLIGHT
TZOFFSETFROM:+0000
TZOFFSETTO:+0100
TZNAME:BST
DTSTART:20220327T010000
END:DAYLIGHT
BEGIN:STANDARD
TZOFFSETFROM:+0100
TZOFFSETTO:+0000
TZNAME:GMT
DTSTART:20221030T010000
END:STANDARD
END:VTIMEZONE
BEGIN:VEVENT
DTSTART;TZID=Europe/London:20210425T123000
DTEND;TZID=Europe/London:20210425T153000
DTSTAMP:20260422T020913
CREATED:20201118T143246Z
LAST-MODIFIED:20210331T124239Z
UID:3279-1619353800-1619364600@leedscombinedarts.org.uk
SUMMARY:Walk around Norwood Edge Plantation and Lindley Moor
DESCRIPTION:Join Richard for a 4.5 to 5-mile walk through Norwood Edge Plantation\, Lindley Moor and part of north eastern shore of Lindley Wood Reservoir\, all some 5 km (or 3 miles) north of Otley.  We will also be seeing the unusual Hunter’s Stones. \nMeet in the free car park of Warren Plantation just off the B6451. This car park is about half a mile uphill north of Lindley Wood reservoir.  Please bring pack lunch as usual and poetry on the theme of ‘sky’ and ‘clouds’ (should you wish to read). Contact Richard B on 0113 234 7688 (or the LCA Mobile on 07518 627109).
URL:https://leedscombinedarts.org.uk/event/walk-with-richard-b/
END:VEVENT
END:VCALENDAR