BEGIN:VCALENDAR
VERSION:2.0
PRODID:-//Leeds Combined Arts - ECPv6.15.20//NONSGML v1.0//EN
CALSCALE:GREGORIAN
METHOD:PUBLISH
X-WR-CALNAME:Leeds Combined Arts
X-ORIGINAL-URL:https://leedscombinedarts.org.uk
X-WR-CALDESC:Events for Leeds Combined Arts
REFRESH-INTERVAL;VALUE=DURATION:PT1H
X-Robots-Tag:noindex
X-PUBLISHED-TTL:PT1H
BEGIN:VTIMEZONE
TZID:Europe/London
BEGIN:DAYLIGHT
TZOFFSETFROM:+0000
TZOFFSETTO:+0100
TZNAME:BST
DTSTART:20200329T010000
END:DAYLIGHT
BEGIN:STANDARD
TZOFFSETFROM:+0100
TZOFFSETTO:+0000
TZNAME:GMT
DTSTART:20201025T010000
END:STANDARD
BEGIN:DAYLIGHT
TZOFFSETFROM:+0000
TZOFFSETTO:+0100
TZNAME:BST
DTSTART:20210328T010000
END:DAYLIGHT
BEGIN:STANDARD
TZOFFSETFROM:+0100
TZOFFSETTO:+0000
TZNAME:GMT
DTSTART:20211031T010000
END:STANDARD
BEGIN:DAYLIGHT
TZOFFSETFROM:+0000
TZOFFSETTO:+0100
TZNAME:BST
DTSTART:20220327T010000
END:DAYLIGHT
BEGIN:STANDARD
TZOFFSETFROM:+0100
TZOFFSETTO:+0000
TZNAME:GMT
DTSTART:20221030T010000
END:STANDARD
END:VTIMEZONE
BEGIN:VEVENT
DTSTART;TZID=Europe/London:20210420T150000
DTEND;TZID=Europe/London:20210420T163000
DTSTAMP:20260422T020853
CREATED:20210407T090808Z
LAST-MODIFIED:20210407T114736Z
UID:3448-1618930800-1618936200@leedscombinedarts.org.uk
SUMMARY:‘Drawing workshops for beginners’ - ‘Life-lines in the Community’
DESCRIPTION:Join us with professional Artist Clive Rea for drawing classes for beginners and those who would like to improve.  Clive would like to assure people that art needn’t be difficult or complicated.  He intends to start from the beginning with simple light and shadow exercises and work up to more ambitious projects eventually; making the session enjoyable by bringing a sense of humour into the proceeds.
URL:https://leedscombinedarts.org.uk/event/drawing-workshops-for-beginners-life-lines-in-the-community/
LOCATION:HEART – Headingley Enterprise & Arts Centre\, Bennett Road\, Headingley\, Leeds\, LS6 3HN
END:VEVENT
END:VCALENDAR