BEGIN:VCALENDAR
VERSION:2.0
PRODID:-//Leeds Combined Arts - ECPv6.15.20//NONSGML v1.0//EN
CALSCALE:GREGORIAN
METHOD:PUBLISH
X-ORIGINAL-URL:https://leedscombinedarts.org.uk
X-WR-CALDESC:Events for Leeds Combined Arts
REFRESH-INTERVAL;VALUE=DURATION:PT1H
X-Robots-Tag:noindex
X-PUBLISHED-TTL:PT1H
BEGIN:VTIMEZONE
TZID:Europe/London
BEGIN:DAYLIGHT
TZOFFSETFROM:+0000
TZOFFSETTO:+0100
TZNAME:BST
DTSTART:20200329T010000
END:DAYLIGHT
BEGIN:STANDARD
TZOFFSETFROM:+0100
TZOFFSETTO:+0000
TZNAME:GMT
DTSTART:20201025T010000
END:STANDARD
BEGIN:DAYLIGHT
TZOFFSETFROM:+0000
TZOFFSETTO:+0100
TZNAME:BST
DTSTART:20210328T010000
END:DAYLIGHT
BEGIN:STANDARD
TZOFFSETFROM:+0100
TZOFFSETTO:+0000
TZNAME:GMT
DTSTART:20211031T010000
END:STANDARD
BEGIN:DAYLIGHT
TZOFFSETFROM:+0000
TZOFFSETTO:+0100
TZNAME:BST
DTSTART:20220327T010000
END:DAYLIGHT
BEGIN:STANDARD
TZOFFSETFROM:+0100
TZOFFSETTO:+0000
TZNAME:GMT
DTSTART:20221030T010000
END:STANDARD
END:VTIMEZONE
BEGIN:VEVENT
DTSTART;TZID=Europe/London:20210401T130000
DTEND;TZID=Europe/London:20210401T163000
DTSTAMP:20260422T020911
CREATED:20210125T144459Z
LAST-MODIFIED:20210331T142357Z
UID:3388-1617282000-1617294600@leedscombinedarts.org.uk
SUMMARY:LCA Walk Headingley & Meanwood.
DESCRIPTION:Join Rob on Thursday 1st April for a 5.5 mile circular from Meanwood Park via Woodhouse Ridge\, Meanwood Valley Farm and the site of the former Meanwood Park Hospital.  Meet at 12 noon in Meanwood Park near the café (LS6 4LE\, the internet tells me).  There is a free car park almost adjacent to the café but the park has been very busy during lockdown and this car park is almost always full during the day. There can be parking in the roads leading to the park but it may take a while to find a space\, which is fine if you come early enough to spend time looking for one. If you plan to arrive last minute it would be a better bet to park on the road on the other side of the park (Hollin Drive\, LS16 5NE). This is just 2 minutes’ walk across the park to the rendezvous at the cafe.  For those travelling on public transport the bus 51/52 from Albion Street; 51 goes nearer to the park.  The cafe in the park is excellent and has been offering take-away hot drinks and light refreshments throughout the latest lockdown. I suggest we stop there at the end of the walk. Unfortunately\, there are no public toilets available at the café or in the park during the current restrictions. I believe nearby Waitrose (a bit more than 5 mins walk away) has some.  Some paths may be muddy but are on the whole well maintained. Wear suitable gear and bring a packed lunch. The theme for poetry/song will be “Something humorous” (it’s 1st April). Please pre-book your place by contacting carol@leedscombinedarts.org.uk as numbers are still restricted.  Contact Rob for further information on 0113 2164492 / 07421043614.
URL:https://leedscombinedarts.org.uk/event/lca-walk-headingley-meanwood/
LOCATION:Meanwood Park Cafe.\, Green Road\, Leeds\, West Yorkshire\, LS6 4LE\, United Kingdom
END:VEVENT
END:VCALENDAR