BEGIN:VCALENDAR
VERSION:2.0
PRODID:-//Leeds Combined Arts - ECPv6.15.20//NONSGML v1.0//EN
CALSCALE:GREGORIAN
METHOD:PUBLISH
X-ORIGINAL-URL:https://leedscombinedarts.org.uk
X-WR-CALDESC:Events for Leeds Combined Arts
REFRESH-INTERVAL;VALUE=DURATION:PT1H
X-Robots-Tag:noindex
X-PUBLISHED-TTL:PT1H
BEGIN:VTIMEZONE
TZID:Europe/London
BEGIN:DAYLIGHT
TZOFFSETFROM:+0000
TZOFFSETTO:+0100
TZNAME:BST
DTSTART:20190331T010000
END:DAYLIGHT
BEGIN:STANDARD
TZOFFSETFROM:+0100
TZOFFSETTO:+0000
TZNAME:GMT
DTSTART:20191027T010000
END:STANDARD
BEGIN:DAYLIGHT
TZOFFSETFROM:+0000
TZOFFSETTO:+0100
TZNAME:BST
DTSTART:20200329T010000
END:DAYLIGHT
BEGIN:STANDARD
TZOFFSETFROM:+0100
TZOFFSETTO:+0000
TZNAME:GMT
DTSTART:20201025T010000
END:STANDARD
BEGIN:DAYLIGHT
TZOFFSETFROM:+0000
TZOFFSETTO:+0100
TZNAME:BST
DTSTART:20210328T010000
END:DAYLIGHT
BEGIN:STANDARD
TZOFFSETFROM:+0100
TZOFFSETTO:+0000
TZNAME:GMT
DTSTART:20211031T010000
END:STANDARD
END:VTIMEZONE
BEGIN:VEVENT
DTSTART;TZID=Europe/London:20200313T194500
DTEND;TZID=Europe/London:20200313T194500
DTSTAMP:20260425T023755
CREATED:20200205T151737Z
LAST-MODIFIED:20200205T152253Z
UID:2254-1584128700-1584128700@leedscombinedarts.org.uk
SUMMARY:Theatre Visits ‘Missing People’\, Leeds Playhouse
DESCRIPTION:Sakiko is nervous. She’s introducing her fiancé Dan to her parents for the first time at her family home in Kani\, Japan. ​And\, whilst brother Hiroki\, the ‘perfect child’\, got married close to home\, Sakiko’s got to ​break the news that their wedding will be in London\, where they’ve built their lives. But under the surface\, something isn’t right. Her mother is acting strangely\, her father is gone for hours and a strange figure waits in the garden. A thrilling\, bilingual show and first co-production between Leeds Playhouse and Kani Public Arts Centre in Japan\, performed in Japanese and English with subtitles. The Playhouse and Kani Public Arts Centre have had a creative relationship for over two decades\, sharing cross-cultural working practices for staff and artists\, offering an insight into each other’s sector-leading organisations. Missing People is written by the Pinter Prize winning Brad Birch\, and co-directed by Playhouse Associate Artist Mark Rosenblatt and Nobuhiro Nishikawa.
URL:https://leedscombinedarts.org.uk/event/theatre-visits-missing-people-leeds-playhouse/
END:VEVENT
END:VCALENDAR