BEGIN:VCALENDAR
VERSION:2.0
PRODID:-//Leeds Combined Arts - ECPv6.15.20//NONSGML v1.0//EN
CALSCALE:GREGORIAN
METHOD:PUBLISH
X-ORIGINAL-URL:https://leedscombinedarts.org.uk
X-WR-CALDESC:Events for Leeds Combined Arts
REFRESH-INTERVAL;VALUE=DURATION:PT1H
X-Robots-Tag:noindex
X-PUBLISHED-TTL:PT1H
BEGIN:VTIMEZONE
TZID:Europe/London
BEGIN:DAYLIGHT
TZOFFSETFROM:+0000
TZOFFSETTO:+0100
TZNAME:BST
DTSTART:20190331T010000
END:DAYLIGHT
BEGIN:STANDARD
TZOFFSETFROM:+0100
TZOFFSETTO:+0000
TZNAME:GMT
DTSTART:20191027T010000
END:STANDARD
BEGIN:DAYLIGHT
TZOFFSETFROM:+0000
TZOFFSETTO:+0100
TZNAME:BST
DTSTART:20200329T010000
END:DAYLIGHT
BEGIN:STANDARD
TZOFFSETFROM:+0100
TZOFFSETTO:+0000
TZNAME:GMT
DTSTART:20201025T010000
END:STANDARD
BEGIN:DAYLIGHT
TZOFFSETFROM:+0000
TZOFFSETTO:+0100
TZNAME:BST
DTSTART:20210328T010000
END:DAYLIGHT
BEGIN:STANDARD
TZOFFSETFROM:+0100
TZOFFSETTO:+0000
TZNAME:GMT
DTSTART:20211031T010000
END:STANDARD
END:VTIMEZONE
BEGIN:VEVENT
DTSTART;TZID=Europe/London:20200215T113000
DTEND;TZID=Europe/London:20200215T143000
DTSTAMP:20260425T005029
CREATED:20200108T124955Z
LAST-MODIFIED:20200209T134649Z
UID:2145-1581766200-1581777000@leedscombinedarts.org.uk
SUMMARY:Harewood Circular Walk.
DESCRIPTION:Join Carol for a 5 mile walk around the Harewood Estate finishing at the Muddy Boots Tea-room. Meet at the Junction of Wike Lane on Harrogate Road. The 36 Bus stops just opposite and runs every half an hour from Leeds Central bus station picking up in Moortown. There is also a lay-by car park just next to the junction. Please bring a packed lunch and drink. For further information please contact Carol on 07708 230 333. \n 
URL:https://leedscombinedarts.org.uk/event/harewood-circular-walk/
LOCATION:Wike Lane Junction\, Harewood\, United Kingdom
END:VEVENT
END:VCALENDAR