BEGIN:VCALENDAR
VERSION:2.0
PRODID:-//Leeds Combined Arts - ECPv6.15.20//NONSGML v1.0//EN
CALSCALE:GREGORIAN
METHOD:PUBLISH
X-ORIGINAL-URL:https://leedscombinedarts.org.uk
X-WR-CALDESC:Events for Leeds Combined Arts
REFRESH-INTERVAL;VALUE=DURATION:PT1H
X-Robots-Tag:noindex
X-PUBLISHED-TTL:PT1H
BEGIN:VTIMEZONE
TZID:Europe/London
BEGIN:DAYLIGHT
TZOFFSETFROM:+0000
TZOFFSETTO:+0100
TZNAME:BST
DTSTART:20190331T010000
END:DAYLIGHT
BEGIN:STANDARD
TZOFFSETFROM:+0100
TZOFFSETTO:+0000
TZNAME:GMT
DTSTART:20191027T010000
END:STANDARD
BEGIN:DAYLIGHT
TZOFFSETFROM:+0000
TZOFFSETTO:+0100
TZNAME:BST
DTSTART:20200329T010000
END:DAYLIGHT
BEGIN:STANDARD
TZOFFSETFROM:+0100
TZOFFSETTO:+0000
TZNAME:GMT
DTSTART:20201025T010000
END:STANDARD
BEGIN:DAYLIGHT
TZOFFSETFROM:+0000
TZOFFSETTO:+0100
TZNAME:BST
DTSTART:20210328T010000
END:DAYLIGHT
BEGIN:STANDARD
TZOFFSETFROM:+0100
TZOFFSETTO:+0000
TZNAME:GMT
DTSTART:20211031T010000
END:STANDARD
END:VTIMEZONE
BEGIN:VEVENT
DTSTART;TZID=Europe/London:20200102T190000
DTEND;TZID=Europe/London:20200102T190000
DTSTAMP:20260424T213654
CREATED:20191211T170023Z
LAST-MODIFIED:20191211T171051Z
UID:2072-1577991600-1577991600@leedscombinedarts.org.uk
SUMMARY:Theatre Visit: 'Cinderella'
DESCRIPTION:Thursday 2 January 7.00 p.m. ‘Cinderella’\, Northern Ballet\, Leeds Grand Theatre. \nMarvellous feats of magic’. Escape to an enchanting winter wonderland with Northern Ballet’s beautiful reimagining of ‘Cinderella’. A glorious summer’s day turns into tragedy. Devastated by the loss of her father\, and excluded by her cruel stepmother and sisters\, Cinderella finds solace on the frozen lake where she first sees her Prince Charming. Escape into an enchanting winter wonderland with Northern Ballet’s beautiful re imagining of Cinderella.  Live every moment of Cinderella’s story from heartbreak to joy. In this sparkling adaptation of the classic rags-to-riches tale. \nPlease Note: This production has now reached its full capacity.
URL:https://leedscombinedarts.org.uk/event/theatre-visit-cinderella/
LOCATION:Northern Ballet\, Leeds Grand Theatre
END:VEVENT
END:VCALENDAR