BEGIN:VCALENDAR
VERSION:2.0
PRODID:-//Leeds Combined Arts - ECPv6.15.20//NONSGML v1.0//EN
CALSCALE:GREGORIAN
METHOD:PUBLISH
X-ORIGINAL-URL:https://leedscombinedarts.org.uk
X-WR-CALDESC:Events for Leeds Combined Arts
REFRESH-INTERVAL;VALUE=DURATION:PT1H
X-Robots-Tag:noindex
X-PUBLISHED-TTL:PT1H
BEGIN:VTIMEZONE
TZID:Europe/London
BEGIN:DAYLIGHT
TZOFFSETFROM:+0000
TZOFFSETTO:+0100
TZNAME:BST
DTSTART:20180325T010000
END:DAYLIGHT
BEGIN:STANDARD
TZOFFSETFROM:+0100
TZOFFSETTO:+0000
TZNAME:GMT
DTSTART:20181028T010000
END:STANDARD
BEGIN:DAYLIGHT
TZOFFSETFROM:+0000
TZOFFSETTO:+0100
TZNAME:BST
DTSTART:20190331T010000
END:DAYLIGHT
BEGIN:STANDARD
TZOFFSETFROM:+0100
TZOFFSETTO:+0000
TZNAME:GMT
DTSTART:20191027T010000
END:STANDARD
BEGIN:DAYLIGHT
TZOFFSETFROM:+0000
TZOFFSETTO:+0100
TZNAME:BST
DTSTART:20200329T010000
END:DAYLIGHT
BEGIN:STANDARD
TZOFFSETFROM:+0100
TZOFFSETTO:+0000
TZNAME:GMT
DTSTART:20201025T010000
END:STANDARD
END:VTIMEZONE
BEGIN:VEVENT
DTSTART;TZID=Europe/London:20190709T150000
DTEND;TZID=Europe/London:20190709T170000
DTSTAMP:20260424T192803
CREATED:20190509T160011Z
LAST-MODIFIED:20190626T155126Z
UID:1166-1562684400-1562691600@leedscombinedarts.org.uk
SUMMARY:LCA ‘Arts for Well-being’\, Voice Workshops
DESCRIPTION:‘Arts for Well-being’. \nOur weekly programme of Voice Workshops continue with gentle movement. The project will explore vocal toning\, silence\, harmony and some improvisation. The workshops are provided free of charge. Refreshments will be available to purchase.
URL:https://leedscombinedarts.org.uk/event/lca-arts-for-well-being-voice-workshops-9/
LOCATION:Meanwood Institute\, Green Road\, Meanwood\, LS6 4LD\, United Kingdom
END:VEVENT
BEGIN:VEVENT
DTSTART;TZID=Europe/London:20190709T203000
DTEND;TZID=Europe/London:20190709T220000
DTSTAMP:20260424T192803
CREATED:20190514T102313Z
LAST-MODIFIED:20190706T133735Z
UID:1195-1562704200-1562709600@leedscombinedarts.org.uk
SUMMARY:Walk round King Alfred’s and Meanwood (joint walk with Leeds YHA)
DESCRIPTION:  \nMeet Carol outside the Milk & Honey Cafe on Stonegate Road\, Meanwood LS6 4PU for a 4 mile walk through King Alfred’s Fields\, Meanwood Woods\, and Park. The walk will finish at the East of Arcadia in the centre of Meanwood Tel: Carol on 07708 230 333 for more details.
URL:https://leedscombinedarts.org.uk/event/walk-round-king-alfreds-and-meanwood-joint-walk-with-leeds-yha/
END:VEVENT
END:VCALENDAR