BEGIN:VCALENDAR
VERSION:2.0
PRODID:-//Leeds Combined Arts - ECPv6.15.20//NONSGML v1.0//EN
CALSCALE:GREGORIAN
METHOD:PUBLISH
X-ORIGINAL-URL:https://leedscombinedarts.org.uk
X-WR-CALDESC:Events for Leeds Combined Arts
REFRESH-INTERVAL;VALUE=DURATION:PT1H
X-Robots-Tag:noindex
X-PUBLISHED-TTL:PT1H
BEGIN:VTIMEZONE
TZID:Europe/London
BEGIN:DAYLIGHT
TZOFFSETFROM:+0000
TZOFFSETTO:+0100
TZNAME:BST
DTSTART:20180325T010000
END:DAYLIGHT
BEGIN:STANDARD
TZOFFSETFROM:+0100
TZOFFSETTO:+0000
TZNAME:GMT
DTSTART:20181028T010000
END:STANDARD
BEGIN:DAYLIGHT
TZOFFSETFROM:+0000
TZOFFSETTO:+0100
TZNAME:BST
DTSTART:20190331T010000
END:DAYLIGHT
BEGIN:STANDARD
TZOFFSETFROM:+0100
TZOFFSETTO:+0000
TZNAME:GMT
DTSTART:20191027T010000
END:STANDARD
BEGIN:DAYLIGHT
TZOFFSETFROM:+0000
TZOFFSETTO:+0100
TZNAME:BST
DTSTART:20200329T010000
END:DAYLIGHT
BEGIN:STANDARD
TZOFFSETFROM:+0100
TZOFFSETTO:+0000
TZNAME:GMT
DTSTART:20201025T010000
END:STANDARD
END:VTIMEZONE
BEGIN:VEVENT
DTSTART;TZID=Europe/London:20190528T150000
DTEND;TZID=Europe/London:20190528T170000
DTSTAMP:20260424T211842
CREATED:20190501T074709Z
LAST-MODIFIED:20190527T153108Z
UID:1065-1559055600-1559062800@leedscombinedarts.org.uk
SUMMARY:LCA 'Arts for Well-being'\, Voice Workshops.
DESCRIPTION:   \n‘Arts for Well-being’.\nOur weekly programme of Voice Workshops continue with gentle movement. The project will explore vocal toning\, silence\, harmony and some improvisation. The workshops are provided free of charge. Refreshments will be available to purchase. Just for this week and due to the Meanwood Festival we’ll be meeting at the Holy Trinity Community Hall\, Memorial Drive\, Meanwood LS6 4LF.
URL:https://leedscombinedarts.org.uk/event/lca-arts-for-well-being-voice-workshops-3/
LOCATION:Holy Trinity Community Hall Meanwood\, LS6 4LF\, Green Road\, Meanwood\, LS6 4LD\, United Kingdom
END:VEVENT
END:VCALENDAR